BEGIN:VCALENDAR
VERSION:2.0
PRODID:-//Blue Sky Coffee - ECPv6.15.20//NONSGML v1.0//EN
CALSCALE:GREGORIAN
METHOD:PUBLISH
X-ORIGINAL-URL:https://blueskycoffeedyt.com
X-WR-CALDESC:Events for Blue Sky Coffee
REFRESH-INTERVAL;VALUE=DURATION:PT1H
X-Robots-Tag:noindex
X-PUBLISHED-TTL:PT1H
BEGIN:VTIMEZONE
TZID:America/New_York
BEGIN:DAYLIGHT
TZOFFSETFROM:-0500
TZOFFSETTO:-0400
TZNAME:EDT
DTSTART:20230312T070000
END:DAYLIGHT
BEGIN:STANDARD
TZOFFSETFROM:-0400
TZOFFSETTO:-0500
TZNAME:EST
DTSTART:20231105T060000
END:STANDARD
BEGIN:DAYLIGHT
TZOFFSETFROM:-0500
TZOFFSETTO:-0400
TZNAME:EDT
DTSTART:20240310T070000
END:DAYLIGHT
BEGIN:STANDARD
TZOFFSETFROM:-0400
TZOFFSETTO:-0500
TZNAME:EST
DTSTART:20241103T060000
END:STANDARD
BEGIN:DAYLIGHT
TZOFFSETFROM:-0500
TZOFFSETTO:-0400
TZNAME:EDT
DTSTART:20250309T070000
END:DAYLIGHT
BEGIN:STANDARD
TZOFFSETFROM:-0400
TZOFFSETTO:-0500
TZNAME:EST
DTSTART:20251102T060000
END:STANDARD
END:VTIMEZONE
BEGIN:VEVENT
DTSTART;TZID=America/New_York:20240716T180000
DTEND;TZID=America/New_York:20240716T200000
DTSTAMP:20260422T193730
CREATED:20240618T004336Z
LAST-MODIFIED:20240715T182211Z
UID:172-1721152800-1721160000@blueskycoffeedyt.com
SUMMARY:Poetry Open Mic w/ featured poet Edd The Wordsmith!
DESCRIPTION:Join us for an evening of poetry! All styles are welcome. Whether you wish to read or simply listen\, we look forward to seeing you there!
URL:https://blueskycoffeedyt.com/calendar/poetry-open-mic-2/
LOCATION:OH
END:VEVENT
END:VCALENDAR