BEGIN:VCALENDAR
VERSION:2.0
PRODID:-//Blue Sky Coffee - ECPv6.15.20//NONSGML v1.0//EN
CALSCALE:GREGORIAN
METHOD:PUBLISH
X-WR-CALNAME:Blue Sky Coffee
X-ORIGINAL-URL:https://blueskycoffeedyt.com
X-WR-CALDESC:Events for Blue Sky Coffee
REFRESH-INTERVAL;VALUE=DURATION:PT1H
X-Robots-Tag:noindex
X-PUBLISHED-TTL:PT1H
BEGIN:VTIMEZONE
TZID:America/New_York
BEGIN:DAYLIGHT
TZOFFSETFROM:-0500
TZOFFSETTO:-0400
TZNAME:EDT
DTSTART:20230312T070000
END:DAYLIGHT
BEGIN:STANDARD
TZOFFSETFROM:-0400
TZOFFSETTO:-0500
TZNAME:EST
DTSTART:20231105T060000
END:STANDARD
BEGIN:DAYLIGHT
TZOFFSETFROM:-0500
TZOFFSETTO:-0400
TZNAME:EDT
DTSTART:20240310T070000
END:DAYLIGHT
BEGIN:STANDARD
TZOFFSETFROM:-0400
TZOFFSETTO:-0500
TZNAME:EST
DTSTART:20241103T060000
END:STANDARD
BEGIN:DAYLIGHT
TZOFFSETFROM:-0500
TZOFFSETTO:-0400
TZNAME:EDT
DTSTART:20250309T070000
END:DAYLIGHT
BEGIN:STANDARD
TZOFFSETFROM:-0400
TZOFFSETTO:-0500
TZNAME:EST
DTSTART:20251102T060000
END:STANDARD
END:VTIMEZONE
BEGIN:VEVENT
DTSTART;TZID=America/New_York:20241210T180000
DTEND;TZID=America/New_York:20241210T200000
DTSTAMP:20260422T110029
CREATED:20241117T012457Z
LAST-MODIFIED:20241202T235610Z
UID:334-1733853600-1733860800@blueskycoffeedyt.com
SUMMARY:Resin Ornament Class!
DESCRIPTION:Create Your Own Resin Ornament Workshop \n \nGet ready to craft one-of-a-kind ornaments at our Resin Ornament Workshop! Perfect for the holiday season\, this class will guide you through the basics of working with resin\, allowing you to create beautifully personalized ornaments. You’ll combine resin with a variety of beads\, vibrant colors\, and other embellishments to design something uniquely yours. Whether as a gift or a new addition to your own décor\, your handmade ornaments will shine! No experience necessary—just bring your creativity and let’s get crafting together! \nWhat’s included \n\nAll resin supplies and tools\nA selection of beads\, pigments\, and other decorative materials\nInstructional guidance through each step\nOne hand-crafted drink of your choosing\nAdditional drinks and baked goods available for purchase\n\n*resin requires 24 hours to cure. Ornaments can be stored at the shop to fully cure and be picked up at a later date.
URL:https://blueskycoffeedyt.com/calendar/resin-ornament-class/
LOCATION:Blue Sky Coffee\, 3070 Presidential Drive\, Fairborn\, OH\, 45324\, United States
END:VEVENT
END:VCALENDAR