BEGIN:VCALENDAR
VERSION:2.0
PRODID:-//Blue Sky Coffee - ECPv6.15.20//NONSGML v1.0//EN
CALSCALE:GREGORIAN
METHOD:PUBLISH
X-WR-CALNAME:Blue Sky Coffee
X-ORIGINAL-URL:https://blueskycoffeedyt.com
X-WR-CALDESC:Events for Blue Sky Coffee
REFRESH-INTERVAL;VALUE=DURATION:PT1H
X-Robots-Tag:noindex
X-PUBLISHED-TTL:PT1H
BEGIN:VTIMEZONE
TZID:America/New_York
BEGIN:DAYLIGHT
TZOFFSETFROM:-0500
TZOFFSETTO:-0400
TZNAME:EDT
DTSTART:20240310T070000
END:DAYLIGHT
BEGIN:STANDARD
TZOFFSETFROM:-0400
TZOFFSETTO:-0500
TZNAME:EST
DTSTART:20241103T060000
END:STANDARD
BEGIN:DAYLIGHT
TZOFFSETFROM:-0500
TZOFFSETTO:-0400
TZNAME:EDT
DTSTART:20250309T070000
END:DAYLIGHT
BEGIN:STANDARD
TZOFFSETFROM:-0400
TZOFFSETTO:-0500
TZNAME:EST
DTSTART:20251102T060000
END:STANDARD
BEGIN:DAYLIGHT
TZOFFSETFROM:-0500
TZOFFSETTO:-0400
TZNAME:EDT
DTSTART:20260308T070000
END:DAYLIGHT
BEGIN:STANDARD
TZOFFSETFROM:-0400
TZOFFSETTO:-0500
TZNAME:EST
DTSTART:20261101T060000
END:STANDARD
END:VTIMEZONE
BEGIN:VEVENT
DTSTART;VALUE=DATE:20250318
DTEND;VALUE=DATE:20250319
DTSTAMP:20260422T062556
CREATED:20250301T154914Z
LAST-MODIFIED:20250301T154914Z
UID:708-1742256000-1742342399@blueskycoffeedyt.com
SUMMARY:Two-Punch Tuesdays!
DESCRIPTION:We love rewarding you\, our loyal customers\, and we wanted to spice things up a bit… Every Tuesday\, get double punches for every drink purchase!
URL:https://blueskycoffeedyt.com/calendar/two-punch-tuesdays-5/
LOCATION:Blue Sky Coffee\, 3070 Presidential Drive\, Fairborn\, OH\, 45324\, United States
END:VEVENT
BEGIN:VEVENT
DTSTART;TZID=America/New_York:20250318T180000
DTEND;TZID=America/New_York:20250318T200000
DTSTAMP:20260422T062556
CREATED:20250225T143959Z
LAST-MODIFIED:20250225T143959Z
UID:665-1742320800-1742328000@blueskycoffeedyt.com
SUMMARY:Nature & Nectar
DESCRIPTION:Join us from 6-8pm on March 18th as we embrace the first blooms of Spring! \nSpend an evening creating your own handcrafted bouquet and sipping our new seasonal menu before it goes public. We can’t imagine a better way to let Spring blossom than by enjoying nature’s best nectar: coffee! We hope you’ll join us! \nTickets are $20 and include: \n\nEvent admission\nGuidance on assembling a balanced bouquet\nVarious florals for your arrangement\nGlassware to display your greenery at home\nOne Blue Sky drink of your choice
URL:https://blueskycoffeedyt.com/calendar/nature-nectar/
LOCATION:Blue Sky Coffee\, 3070 Presidential Drive\, Fairborn\, OH\, 45324\, United States
END:VEVENT
END:VCALENDAR