BEGIN:VCALENDAR
VERSION:2.0
PRODID:-//Blue Sky Coffee - ECPv6.15.20//NONSGML v1.0//EN
CALSCALE:GREGORIAN
METHOD:PUBLISH
X-ORIGINAL-URL:https://blueskycoffeedyt.com
X-WR-CALDESC:Events for Blue Sky Coffee
REFRESH-INTERVAL;VALUE=DURATION:PT1H
X-Robots-Tag:noindex
X-PUBLISHED-TTL:PT1H
BEGIN:VTIMEZONE
TZID:America/New_York
BEGIN:DAYLIGHT
TZOFFSETFROM:-0500
TZOFFSETTO:-0400
TZNAME:EDT
DTSTART:20240310T070000
END:DAYLIGHT
BEGIN:STANDARD
TZOFFSETFROM:-0400
TZOFFSETTO:-0500
TZNAME:EST
DTSTART:20241103T060000
END:STANDARD
BEGIN:DAYLIGHT
TZOFFSETFROM:-0500
TZOFFSETTO:-0400
TZNAME:EDT
DTSTART:20250309T070000
END:DAYLIGHT
BEGIN:STANDARD
TZOFFSETFROM:-0400
TZOFFSETTO:-0500
TZNAME:EST
DTSTART:20251102T060000
END:STANDARD
BEGIN:DAYLIGHT
TZOFFSETFROM:-0500
TZOFFSETTO:-0400
TZNAME:EDT
DTSTART:20260308T070000
END:DAYLIGHT
BEGIN:STANDARD
TZOFFSETFROM:-0400
TZOFFSETTO:-0500
TZNAME:EST
DTSTART:20261101T060000
END:STANDARD
END:VTIMEZONE
BEGIN:VEVENT
DTSTART;TZID=America/New_York:20251023T180000
DTEND;TZID=America/New_York:20251023T200000
DTSTAMP:20260421T184436
CREATED:20250930T200805Z
LAST-MODIFIED:20250930T200805Z
UID:983-1761242400-1761249600@blueskycoffeedyt.com
SUMMARY:Pumpkins & Pour
DESCRIPTION:Come join us for an evening of pumpkin painting fun! \nWe’ll provide you \n\n1 Pumpkin 🎃\n1 Beverage of Your Choosing ☕️\nPaint Supplies 🎨\n\nYou provide the creativity! \nSo grab a friend and come celebrate the Fall season with us!
URL:https://blueskycoffeedyt.com/calendar/pumpkins-pour-2/
LOCATION:Blue Sky Coffee\, 3070 Presidential Drive\, Fairborn\, OH\, 45324\, United States
END:VEVENT
END:VCALENDAR