BEGIN:VCALENDAR
VERSION:2.0
PRODID:-//Blue Sky Coffee - ECPv6.15.20//NONSGML v1.0//EN
CALSCALE:GREGORIAN
METHOD:PUBLISH
X-ORIGINAL-URL:https://blueskycoffeedyt.com
X-WR-CALDESC:Events for Blue Sky Coffee
REFRESH-INTERVAL;VALUE=DURATION:PT1H
X-Robots-Tag:noindex
X-PUBLISHED-TTL:PT1H
BEGIN:VTIMEZONE
TZID:America/New_York
BEGIN:DAYLIGHT
TZOFFSETFROM:-0500
TZOFFSETTO:-0400
TZNAME:EDT
DTSTART:20250309T070000
END:DAYLIGHT
BEGIN:STANDARD
TZOFFSETFROM:-0400
TZOFFSETTO:-0500
TZNAME:EST
DTSTART:20251102T060000
END:STANDARD
BEGIN:DAYLIGHT
TZOFFSETFROM:-0500
TZOFFSETTO:-0400
TZNAME:EDT
DTSTART:20260308T070000
END:DAYLIGHT
BEGIN:STANDARD
TZOFFSETFROM:-0400
TZOFFSETTO:-0500
TZNAME:EST
DTSTART:20261101T060000
END:STANDARD
BEGIN:DAYLIGHT
TZOFFSETFROM:-0500
TZOFFSETTO:-0400
TZNAME:EDT
DTSTART:20270314T070000
END:DAYLIGHT
BEGIN:STANDARD
TZOFFSETFROM:-0400
TZOFFSETTO:-0500
TZNAME:EST
DTSTART:20271107T060000
END:STANDARD
END:VTIMEZONE
BEGIN:VEVENT
DTSTART;TZID=America/New_York:20260123T070000
DTEND;TZID=America/New_York:20260123T110000
DTSTAMP:20260421T135020
CREATED:20260112T194731Z
LAST-MODIFIED:20260112T194731Z
UID:1180-1769151600-1769166000@blueskycoffeedyt.com
SUMMARY:(Quiet) Well & Weave
DESCRIPTION:Write separately together! \nJoin Ink & Loom‘s “Well & Weave” series\, a write-in\, open free to the community. Whether it’s a poem\, a novel\, or a term paper\, come write alongside other writers and enjoy some coffee and a treat. \nLike a challenge? Join in on writing sprints where we set a short timer and see how many words we can get out in that time. For this quiet session\, no beeping alarms or loud writing instruments. \nIf you’re feeling particularly competitive\, you can opt-in for the leaderboard!
URL:https://blueskycoffeedyt.com/calendar/quiet-well-weave-4/
LOCATION:Blue Sky Coffee\, 3070 Presidential Drive\, Fairborn\, OH\, 45324\, United States
END:VEVENT
BEGIN:VEVENT
DTSTART;TZID=America/New_York:20260123T100000
DTEND;TZID=America/New_York:20260123T120000
DTSTAMP:20260421T135020
CREATED:20260101T185956Z
LAST-MODIFIED:20260101T185956Z
UID:1091-1769162400-1769169600@blueskycoffeedyt.com
SUMMARY:Social Knitting
DESCRIPTION:Looking for a cozy way to spend your Friday mornings? Join the Miami Valley Knitting Guild the 2nd and 4th Fridays of the month at Blue Sky Coffee! You don’t need to be a member\, all are welcome!  Bring your knitting projects\, sip on delicious coffee or tea\, and enjoy the company of fellow knitters in a relaxed\, creative environment. \n When: 2nd and 4th Fridays of the month\, 10:00 AM – 12:00 PM\n Where: Blue Sky Coffee\, Fairborn\, OH\n Cost: Free! No tickets or RSVP required—just stop by and join in the fun. \nWhether you’re a seasoned knitter or just starting out\, this is the perfect time to unwind\, share tips\, and connect with the knitting community. We can’t wait to see you there!
URL:https://blueskycoffeedyt.com/calendar/social-knitting-19/
LOCATION:Blue Sky Coffee\, 3070 Presidential Drive\, Fairborn\, OH\, 45324\, United States
END:VEVENT
END:VCALENDAR