BEGIN:VCALENDAR
VERSION:2.0
PRODID:-//Blue Sky Coffee - ECPv6.15.20//NONSGML v1.0//EN
CALSCALE:GREGORIAN
METHOD:PUBLISH
X-ORIGINAL-URL:https://blueskycoffeedyt.com
X-WR-CALDESC:Events for Blue Sky Coffee
REFRESH-INTERVAL;VALUE=DURATION:PT1H
X-Robots-Tag:noindex
X-PUBLISHED-TTL:PT1H
BEGIN:VTIMEZONE
TZID:America/New_York
BEGIN:DAYLIGHT
TZOFFSETFROM:-0500
TZOFFSETTO:-0400
TZNAME:EDT
DTSTART:20250309T070000
END:DAYLIGHT
BEGIN:STANDARD
TZOFFSETFROM:-0400
TZOFFSETTO:-0500
TZNAME:EST
DTSTART:20251102T060000
END:STANDARD
BEGIN:DAYLIGHT
TZOFFSETFROM:-0500
TZOFFSETTO:-0400
TZNAME:EDT
DTSTART:20260308T070000
END:DAYLIGHT
BEGIN:STANDARD
TZOFFSETFROM:-0400
TZOFFSETTO:-0500
TZNAME:EST
DTSTART:20261101T060000
END:STANDARD
BEGIN:DAYLIGHT
TZOFFSETFROM:-0500
TZOFFSETTO:-0400
TZNAME:EDT
DTSTART:20270314T070000
END:DAYLIGHT
BEGIN:STANDARD
TZOFFSETFROM:-0400
TZOFFSETTO:-0500
TZNAME:EST
DTSTART:20271107T060000
END:STANDARD
END:VTIMEZONE
BEGIN:VEVENT
DTSTART;TZID=America/New_York:20260206T180000
DTEND;TZID=America/New_York:20260206T200000
DTSTAMP:20260421T121837
CREATED:20251222T174515Z
LAST-MODIFIED:20260206T193852Z
UID:1075-1770400800-1770408000@blueskycoffeedyt.com
SUMMARY:Paint & Sip for a Cause with Kiki Allison!
DESCRIPTION:✨ Paint & Sip for a Cause with Kiki Allison! ✨ \nJoin us on February 6 for a heart-warming evening of creativity as local artist Kiki Allison guides you through painting two handmade cards and a floral painting. Whether you’re a seasoned artist or just in it for the vibes\, this relaxed workshop is all about creating\, sipping\, and giving back 🌸🎨 \nThis special fundraiser supports Coats for a Cure\, with proceeds helping provide warmth and care to those in need. \nYour ticket includes:✔ All materials✔ Step-by-step instruction by Kiki Allison✔ One complimentary drink from Blue Sky Coffee \nSpots are limited—come paint with purpose and make something beautiful with us 💛☕
URL:https://blueskycoffeedyt.com/calendar/paint-sip-with-a-purpose-with-kiki-allison/
LOCATION:Blue Sky Coffee\, 3070 Presidential Drive\, Fairborn\, OH\, 45324\, United States
END:VEVENT
END:VCALENDAR