BEGIN:VCALENDAR
VERSION:2.0
PRODID:-//Blue Sky Coffee - ECPv6.15.20//NONSGML v1.0//EN
CALSCALE:GREGORIAN
METHOD:PUBLISH
X-WR-CALNAME:Blue Sky Coffee
X-ORIGINAL-URL:https://blueskycoffeedyt.com
X-WR-CALDESC:Events for Blue Sky Coffee
REFRESH-INTERVAL;VALUE=DURATION:PT1H
X-Robots-Tag:noindex
X-PUBLISHED-TTL:PT1H
BEGIN:VTIMEZONE
TZID:America/New_York
BEGIN:DAYLIGHT
TZOFFSETFROM:-0500
TZOFFSETTO:-0400
TZNAME:EDT
DTSTART:20250309T070000
END:DAYLIGHT
BEGIN:STANDARD
TZOFFSETFROM:-0400
TZOFFSETTO:-0500
TZNAME:EST
DTSTART:20251102T060000
END:STANDARD
BEGIN:DAYLIGHT
TZOFFSETFROM:-0500
TZOFFSETTO:-0400
TZNAME:EDT
DTSTART:20260308T070000
END:DAYLIGHT
BEGIN:STANDARD
TZOFFSETFROM:-0400
TZOFFSETTO:-0500
TZNAME:EST
DTSTART:20261101T060000
END:STANDARD
BEGIN:DAYLIGHT
TZOFFSETFROM:-0500
TZOFFSETTO:-0400
TZNAME:EDT
DTSTART:20270314T070000
END:DAYLIGHT
BEGIN:STANDARD
TZOFFSETFROM:-0400
TZOFFSETTO:-0500
TZNAME:EST
DTSTART:20271107T060000
END:STANDARD
END:VTIMEZONE
BEGIN:VEVENT
DTSTART;TZID=America/New_York:20260207T100000
DTEND;TZID=America/New_York:20260207T160000
DTSTAMP:20260421T131331
CREATED:20260127T145100Z
LAST-MODIFIED:20260127T145100Z
UID:1253-1770458400-1770480000@blueskycoffeedyt.com
SUMMARY:Baker Pop-Up with Sweet Sides Creations!
DESCRIPTION:We’ll have Sweet Sides Creations joining us in the shop from 10-4\, bringing a wide selection of their goods. Come grab your favorite Sweet Sides treats while enjoying fresh coffee. Perfect way to start your weekend right!
URL:https://blueskycoffeedyt.com/calendar/baker-pop-up-with-sweet-sides-creations-2/
LOCATION:Blue Sky Coffee\, 3070 Presidential Drive\, Fairborn\, OH\, 45324\, United States
END:VEVENT
END:VCALENDAR