BEGIN:VCALENDAR
VERSION:2.0
PRODID:-//Blue Sky Coffee - ECPv6.15.20//NONSGML v1.0//EN
CALSCALE:GREGORIAN
METHOD:PUBLISH
X-WR-CALNAME:Blue Sky Coffee
X-ORIGINAL-URL:https://blueskycoffeedyt.com
X-WR-CALDESC:Events for Blue Sky Coffee
REFRESH-INTERVAL;VALUE=DURATION:PT1H
X-Robots-Tag:noindex
X-PUBLISHED-TTL:PT1H
BEGIN:VTIMEZONE
TZID:America/New_York
BEGIN:DAYLIGHT
TZOFFSETFROM:-0500
TZOFFSETTO:-0400
TZNAME:EDT
DTSTART:20250309T070000
END:DAYLIGHT
BEGIN:STANDARD
TZOFFSETFROM:-0400
TZOFFSETTO:-0500
TZNAME:EST
DTSTART:20251102T060000
END:STANDARD
BEGIN:DAYLIGHT
TZOFFSETFROM:-0500
TZOFFSETTO:-0400
TZNAME:EDT
DTSTART:20260308T070000
END:DAYLIGHT
BEGIN:STANDARD
TZOFFSETFROM:-0400
TZOFFSETTO:-0500
TZNAME:EST
DTSTART:20261101T060000
END:STANDARD
BEGIN:DAYLIGHT
TZOFFSETFROM:-0500
TZOFFSETTO:-0400
TZNAME:EDT
DTSTART:20270314T070000
END:DAYLIGHT
BEGIN:STANDARD
TZOFFSETFROM:-0400
TZOFFSETTO:-0500
TZNAME:EST
DTSTART:20271107T060000
END:STANDARD
END:VTIMEZONE
BEGIN:VEVENT
DTSTART;TZID=America/New_York:20260514T180000
DTEND;TZID=America/New_York:20260514T200000
DTSTAMP:20260421T103050
CREATED:20260116T204116Z
LAST-MODIFIED:20260116T204116Z
UID:1201-1778781600-1778788800@blueskycoffeedyt.com
SUMMARY:Sip & Create: Epoxy Coasters with Matthew Stevenson
DESCRIPTION:Get ready to create one-of-a-kind epoxy coasters in this hands-on workshop! You’ll learn the basics of working with resin while designing beautifully personalized coasters using vibrant colors\, decorative elements\, and creative techniques. Perfect as a gift or for your own home\, each coaster will be uniquely yours. No experience necessary—just bring your creativity and let’s get crafting! \nWhat’s included:\n✔️ All resin supplies and tools\n✔️A selection of beads\, pigments\, and other decorative materials\n✔️Instructional guidance through each step\n✔️One hand-crafted drink of your choosing \n*resin requires 24 hours to cure. Coasters can be stored at the shop to fully cure and be picked up at a later date.
URL:https://blueskycoffeedyt.com/calendar/sip-create-epoxy-coasters-with-matthew-stevenson/
LOCATION:Blue Sky Coffee\, 3070 Presidential Drive\, Fairborn\, OH\, 45324\, United States
END:VEVENT
END:VCALENDAR