BEGIN:VCALENDAR
VERSION:2.0
PRODID:-//Blue Sky Coffee - ECPv6.15.20//NONSGML v1.0//EN
CALSCALE:GREGORIAN
METHOD:PUBLISH
X-ORIGINAL-URL:https://blueskycoffeedyt.com
X-WR-CALDESC:Events for Blue Sky Coffee
REFRESH-INTERVAL;VALUE=DURATION:PT1H
X-Robots-Tag:noindex
X-PUBLISHED-TTL:PT1H
BEGIN:VTIMEZONE
TZID:America/New_York
BEGIN:DAYLIGHT
TZOFFSETFROM:-0500
TZOFFSETTO:-0400
TZNAME:EDT
DTSTART:20250309T070000
END:DAYLIGHT
BEGIN:STANDARD
TZOFFSETFROM:-0400
TZOFFSETTO:-0500
TZNAME:EST
DTSTART:20251102T060000
END:STANDARD
BEGIN:DAYLIGHT
TZOFFSETFROM:-0500
TZOFFSETTO:-0400
TZNAME:EDT
DTSTART:20260308T070000
END:DAYLIGHT
BEGIN:STANDARD
TZOFFSETFROM:-0400
TZOFFSETTO:-0500
TZNAME:EST
DTSTART:20261101T060000
END:STANDARD
BEGIN:DAYLIGHT
TZOFFSETFROM:-0500
TZOFFSETTO:-0400
TZNAME:EDT
DTSTART:20270314T070000
END:DAYLIGHT
BEGIN:STANDARD
TZOFFSETFROM:-0400
TZOFFSETTO:-0500
TZNAME:EST
DTSTART:20271107T060000
END:STANDARD
END:VTIMEZONE
BEGIN:VEVENT
DTSTART;TZID=America/New_York:20260601T180000
DTEND;TZID=America/New_York:20260601T200000
DTSTAMP:20260421T114907
CREATED:20251204T001229Z
LAST-MODIFIED:20251204T001229Z
UID:1034-1780336800-1780344000@blueskycoffeedyt.com
SUMMARY:Silent Book Club
DESCRIPTION:Join other local book lovers to connect over stories and ideas at our monthly Silent Book Club. Bring your current read\, a new book you’ve been dying to delve into\, or grab a book off our shelves! We meet the first Monday of every month. \nHow it works: \nIn the first half hour\, grab a drink\, a snack\, find a comfy spot to settle in\, and say hi to the other bibliophiles. We’ll then spend an hour silently reading our own books. A 5 minute warning will be given\, and we’ll shift into a discussion portion. This last half hour will be spent informally chatting about what we’ve all read and our thoughts. \nThis is a great way to connect with other readers\, get book recommendations\,  and get lost in a good story. Perfect for the avid reader\, or those looking to dip their feet back into reading! \n*FREE ENTRY
URL:https://blueskycoffeedyt.com/calendar/silent-book-club-18/
LOCATION:Blue Sky Coffee\, 3070 Presidential Drive\, Fairborn\, OH\, 45324\, United States
END:VEVENT
END:VCALENDAR