BEGIN:VCALENDAR
VERSION:2.0
PRODID:-//Blue Sky Coffee - ECPv6.15.20//NONSGML v1.0//EN
CALSCALE:GREGORIAN
METHOD:PUBLISH
X-WR-CALNAME:Blue Sky Coffee
X-ORIGINAL-URL:https://blueskycoffeedyt.com
X-WR-CALDESC:Events for Blue Sky Coffee
REFRESH-INTERVAL;VALUE=DURATION:PT1H
X-Robots-Tag:noindex
X-PUBLISHED-TTL:PT1H
BEGIN:VTIMEZONE
TZID:America/New_York
BEGIN:DAYLIGHT
TZOFFSETFROM:-0500
TZOFFSETTO:-0400
TZNAME:EDT
DTSTART:20250309T070000
END:DAYLIGHT
BEGIN:STANDARD
TZOFFSETFROM:-0400
TZOFFSETTO:-0500
TZNAME:EST
DTSTART:20251102T060000
END:STANDARD
BEGIN:DAYLIGHT
TZOFFSETFROM:-0500
TZOFFSETTO:-0400
TZNAME:EDT
DTSTART:20260308T070000
END:DAYLIGHT
BEGIN:STANDARD
TZOFFSETFROM:-0400
TZOFFSETTO:-0500
TZNAME:EST
DTSTART:20261101T060000
END:STANDARD
BEGIN:DAYLIGHT
TZOFFSETFROM:-0500
TZOFFSETTO:-0400
TZNAME:EDT
DTSTART:20270314T070000
END:DAYLIGHT
BEGIN:STANDARD
TZOFFSETFROM:-0400
TZOFFSETTO:-0500
TZNAME:EST
DTSTART:20271107T060000
END:STANDARD
END:VTIMEZONE
BEGIN:VEVENT
DTSTART;TZID=America/New_York:20260723T180000
DTEND;TZID=America/New_York:20260723T200000
DTSTAMP:20260421T131426
CREATED:20260109T220559Z
LAST-MODIFIED:20260109T221913Z
UID:1157-1784829600-1784836800@blueskycoffeedyt.com
SUMMARY:Wire-Wrapped Trees: A Three-Part Workshop with Jenn & Shanon Queen [PART 3]
DESCRIPTION:Discover the art of wire wrapping in this immersive three-day workshop\, where you’ll craft your own stunning wire-wrapped tree sculpture. Join us on July 9\, 16\, and 23 as local artists Jenn & Shanon Queen of Queens Keypsakes\, guides you through the process of twisting\, shaping\, and designing intricate tree forms from wire. \nWhether you’re a beginner or have experience with wire art\, this hands-on class is designed to be both engaging and relaxing. Each session will build upon the last\, allowing you to refine your skills and create a beautiful\, one-of-a-kind piece to take home. Enjoy a drink from our menu each night as you unwind and bring your tree to life. \nWhat’s Included: \n✔️ Entry to all three workshop sessions\n✔️ Expert instruction by Jenn & Shanon Queen\n✔️ All materials needed to create your wire-wrapped tree\n✔️ A complimentary drink each night \n📅 Dates: July 9\, 16\, & 23\n💰 Cost: $65 per person\n📍 Location: Blue Sky Coffee \n[TICKETS HERE] \nSpots are limited—reserve yours today! 🌿
URL:https://blueskycoffeedyt.com/calendar/wire-wrapped-trees-a-three-part-workshop-with-jenn-shanon-queen-part-3-2/
LOCATION:Blue Sky Coffee\, 3070 Presidential Drive\, Fairborn\, OH\, 45324\, United States
END:VEVENT
END:VCALENDAR