BEGIN:VCALENDAR
VERSION:2.0
PRODID:-//Blue Sky Coffee - ECPv6.15.20//NONSGML v1.0//EN
CALSCALE:GREGORIAN
METHOD:PUBLISH
X-WR-CALNAME:Blue Sky Coffee
X-ORIGINAL-URL:https://blueskycoffeedyt.com
X-WR-CALDESC:Events for Blue Sky Coffee
REFRESH-INTERVAL;VALUE=DURATION:PT1H
X-Robots-Tag:noindex
X-PUBLISHED-TTL:PT1H
BEGIN:VTIMEZONE
TZID:America/New_York
BEGIN:DAYLIGHT
TZOFFSETFROM:-0500
TZOFFSETTO:-0400
TZNAME:EDT
DTSTART:20250309T070000
END:DAYLIGHT
BEGIN:STANDARD
TZOFFSETFROM:-0400
TZOFFSETTO:-0500
TZNAME:EST
DTSTART:20251102T060000
END:STANDARD
BEGIN:DAYLIGHT
TZOFFSETFROM:-0500
TZOFFSETTO:-0400
TZNAME:EDT
DTSTART:20260308T070000
END:DAYLIGHT
BEGIN:STANDARD
TZOFFSETFROM:-0400
TZOFFSETTO:-0500
TZNAME:EST
DTSTART:20261101T060000
END:STANDARD
BEGIN:DAYLIGHT
TZOFFSETFROM:-0500
TZOFFSETTO:-0400
TZNAME:EDT
DTSTART:20270314T070000
END:DAYLIGHT
BEGIN:STANDARD
TZOFFSETFROM:-0400
TZOFFSETTO:-0500
TZNAME:EST
DTSTART:20271107T060000
END:STANDARD
END:VTIMEZONE
BEGIN:VEVENT
DTSTART;TZID=America/New_York:20260724T100000
DTEND;TZID=America/New_York:20260724T120000
DTSTAMP:20260421T131345
CREATED:20260101T190812Z
LAST-MODIFIED:20260101T190812Z
UID:1115-1784887200-1784894400@blueskycoffeedyt.com
SUMMARY:Social Knitting
DESCRIPTION:Looking for a cozy way to spend your Friday mornings? Join the Miami Valley Knitting Guild the 2nd and 4th Fridays of the month at Blue Sky Coffee! You don’t need to be a member\, all are welcome!  Bring your knitting projects\, sip on delicious coffee or tea\, and enjoy the company of fellow knitters in a relaxed\, creative environment. \n When: 2nd and 4th Fridays of the month\, 10:00 AM – 12:00 PM\n Where: Blue Sky Coffee\, Fairborn\, OH\n Cost: Free! No tickets or RSVP required—just stop by and join in the fun. \nWhether you’re a seasoned knitter or just starting out\, this is the perfect time to unwind\, share tips\, and connect with the knitting community. We can’t wait to see you there!
URL:https://blueskycoffeedyt.com/calendar/social-knitting-31/
LOCATION:Blue Sky Coffee\, 3070 Presidential Drive\, Fairborn\, OH\, 45324\, United States
END:VEVENT
END:VCALENDAR