BEGIN:VCALENDAR
VERSION:2.0
PRODID:-//Blue Sky Coffee - ECPv6.15.20//NONSGML v1.0//EN
CALSCALE:GREGORIAN
METHOD:PUBLISH
X-ORIGINAL-URL:https://blueskycoffeedyt.com
X-WR-CALDESC:Events for Blue Sky Coffee
REFRESH-INTERVAL;VALUE=DURATION:PT1H
X-Robots-Tag:noindex
X-PUBLISHED-TTL:PT1H
BEGIN:VTIMEZONE
TZID:America/New_York
BEGIN:DAYLIGHT
TZOFFSETFROM:-0500
TZOFFSETTO:-0400
TZNAME:EDT
DTSTART:20250309T070000
END:DAYLIGHT
BEGIN:STANDARD
TZOFFSETFROM:-0400
TZOFFSETTO:-0500
TZNAME:EST
DTSTART:20251102T060000
END:STANDARD
BEGIN:DAYLIGHT
TZOFFSETFROM:-0500
TZOFFSETTO:-0400
TZNAME:EDT
DTSTART:20260308T070000
END:DAYLIGHT
BEGIN:STANDARD
TZOFFSETFROM:-0400
TZOFFSETTO:-0500
TZNAME:EST
DTSTART:20261101T060000
END:STANDARD
BEGIN:DAYLIGHT
TZOFFSETFROM:-0500
TZOFFSETTO:-0400
TZNAME:EDT
DTSTART:20270314T070000
END:DAYLIGHT
BEGIN:STANDARD
TZOFFSETFROM:-0400
TZOFFSETTO:-0500
TZNAME:EST
DTSTART:20271107T060000
END:STANDARD
END:VTIMEZONE
BEGIN:VEVENT
DTSTART;TZID=America/New_York:20260813T180000
DTEND;TZID=America/New_York:20260813T200000
DTSTAMP:20260421T144134
CREATED:20260404T004445Z
LAST-MODIFIED:20260404T004445Z
UID:1313-1786644000-1786651200@blueskycoffeedyt.com
SUMMARY:Poetry Open Mic with Featured Poet: Morgan McGee!
DESCRIPTION:Join us for an evening of poetry! \nThe first half will be an open mic and all styles are welcome! For the second half\, Dayton poet\, Morgan McGee\, will be sharing a selection of original poems! \nWhether you plan to read\, listen\, or just come out to support local artists\, we look forward to seeing you there! \n*FREE ENTRY
URL:https://blueskycoffeedyt.com/calendar/poetry-open-mic-with-featured-poet-morgan-mcgee/
LOCATION:Blue Sky Coffee\, 3070 Presidential Drive\, Fairborn\, OH\, 45324\, United States
END:VEVENT
END:VCALENDAR