BEGIN:VCALENDAR
VERSION:2.0
PRODID:-//Blue Sky Coffee - ECPv6.15.20//NONSGML v1.0//EN
CALSCALE:GREGORIAN
METHOD:PUBLISH
X-WR-CALNAME:Blue Sky Coffee
X-ORIGINAL-URL:https://blueskycoffeedyt.com
X-WR-CALDESC:Events for Blue Sky Coffee
REFRESH-INTERVAL;VALUE=DURATION:PT1H
X-Robots-Tag:noindex
X-PUBLISHED-TTL:PT1H
BEGIN:VTIMEZONE
TZID:America/New_York
BEGIN:DAYLIGHT
TZOFFSETFROM:-0500
TZOFFSETTO:-0400
TZNAME:EDT
DTSTART:20230312T070000
END:DAYLIGHT
BEGIN:STANDARD
TZOFFSETFROM:-0400
TZOFFSETTO:-0500
TZNAME:EST
DTSTART:20231105T060000
END:STANDARD
BEGIN:DAYLIGHT
TZOFFSETFROM:-0500
TZOFFSETTO:-0400
TZNAME:EDT
DTSTART:20240310T070000
END:DAYLIGHT
BEGIN:STANDARD
TZOFFSETFROM:-0400
TZOFFSETTO:-0500
TZNAME:EST
DTSTART:20241103T060000
END:STANDARD
BEGIN:DAYLIGHT
TZOFFSETFROM:-0500
TZOFFSETTO:-0400
TZNAME:EDT
DTSTART:20250309T070000
END:DAYLIGHT
BEGIN:STANDARD
TZOFFSETFROM:-0400
TZOFFSETTO:-0500
TZNAME:EST
DTSTART:20251102T060000
END:STANDARD
BEGIN:DAYLIGHT
TZOFFSETFROM:-0500
TZOFFSETTO:-0400
TZNAME:EDT
DTSTART:20260308T070000
END:DAYLIGHT
BEGIN:STANDARD
TZOFFSETFROM:-0400
TZOFFSETTO:-0500
TZNAME:EST
DTSTART:20261101T060000
END:STANDARD
END:VTIMEZONE
BEGIN:VTIMEZONE
TZID:UTC
BEGIN:STANDARD
TZOFFSETFROM:+0000
TZOFFSETTO:+0000
TZNAME:UTC
DTSTART:20230101T000000
END:STANDARD
END:VTIMEZONE
BEGIN:VEVENT
DTSTART;TZID=America/New_York:20250217T180000
DTEND;TZID=America/New_York:20250217T190000
DTSTAMP:20260422T180911
CREATED:20250108T002400Z
LAST-MODIFIED:20250109T015533Z
UID:570-1739815200-1739818800@blueskycoffeedyt.com
SUMMARY:Leadership Book Discussion with Fairborn Young Professionals
DESCRIPTION:“Are you passionate about personal growth\, effective leadership\, and inspiring others? Then we’d love to have you join our Leadership Book Discussion!” – Fairborn Young Professionals \nQuestions? Email: fairborn.yp@gmail.com
URL:https://blueskycoffeedyt.com/calendar/leadership-book-discussion-with-fairborn-young-professionals/
LOCATION:Blue Sky Coffee\, 3070 Presidential Drive\, Fairborn\, OH\, 45324\, United States
END:VEVENT
BEGIN:VEVENT
DTSTART;TZID=America/New_York:20250208T180000
DTEND;TZID=America/New_York:20250208T200000
DTSTAMP:20260422T180911
CREATED:20250122T152701Z
LAST-MODIFIED:20250203T200800Z
UID:596-1739037600-1739044800@blueskycoffeedyt.com
SUMMARY:Intro to D&D
DESCRIPTION:Have you ever wanted to play Dungeons and Dragons? Then join Rory at Blue Sky Coffee for an Intro to D&D. Whether you have played in the past\, or you’re completely new to the game\, all are welcome! Premade characters and dice will be provided\, but feel free to bring your own if you’d like. We will be playing 5th edition and characters will start at 4th level so we get the full experience. Don’t forget a pencil! If there’s any questions\, feel free to message to DM\, Rory\, at 937-489-0482 \n*FREE entry\, but RSVP is required.
URL:https://blueskycoffeedyt.com/calendar/intro-to-dd/
LOCATION:Blue Sky Coffee\, 3070 Presidential Drive\, Fairborn\, OH\, 45324\, United States
END:VEVENT
BEGIN:VEVENT
DTSTART;TZID=America/New_York:20250206T180000
DTEND;TZID=America/New_York:20250206T200000
DTSTAMP:20260422T180911
CREATED:20241117T021123Z
LAST-MODIFIED:20241221T202652Z
UID:342-1738864800-1738872000@blueskycoffeedyt.com
SUMMARY:Poetry Open Mic with featured poet: Ada W. Wood!
DESCRIPTION:Join us for an evening of poetry! \nThe first half will be an open mic and all styles are welcome! For the second half\, Dayton poet\, Ada W. Wood\, will be sharing a selection of original poems. \nWhether you plan to read\, listen\, or just come out to support local artists\, we look forward to seeing you there! \n*FREE ENTRY
URL:https://blueskycoffeedyt.com/calendar/poetry-open-mic-with-featured-poet-ada-wood/
LOCATION:Blue Sky Coffee\, 3070 Presidential Drive\, Fairborn\, OH\, 45324\, United States
END:VEVENT
BEGIN:VEVENT
DTSTART;TZID=America/New_York:20250203T180000
DTEND;TZID=America/New_York:20250203T200000
DTSTAMP:20260422T180911
CREATED:20241221T203640Z
LAST-MODIFIED:20241221T203640Z
UID:523-1738605600-1738612800@blueskycoffeedyt.com
SUMMARY:Silent Book Club
DESCRIPTION:Join other local book lovers to connect over stories and ideas at our monthly Silent Book Club. Bring your current read\, a new book you’ve been dying to delve into\, or grab a book off our shelves! We meet the first Monday of every month. \nHow it works: \nIn the first half hour\, grab a drink\, a snack\, find a comfy spot to settle in\, and say hi to the other bibliophiles. We’ll then spend an hour silently reading our own books. A 5 minute warning will be given\, and we’ll shift into a discussion portion. This last half hour will be spent informally chatting about what we’ve all read and our thoughts. \nThis is a great way to connect with other readers\, get book recommendations\,  and get lost in a good story. Perfect for the avid reader\, or those looking to dip their feet back into reading! \n*FREE ENTRY
URL:https://blueskycoffeedyt.com/calendar/silent-book-club-2/
LOCATION:Blue Sky Coffee\, 3070 Presidential Drive\, Fairborn\, OH\, 45324\, United States
END:VEVENT
BEGIN:VEVENT
DTSTART;TZID=America/New_York:20250131T180000
DTEND;TZID=America/New_York:20250131T200000
DTSTAMP:20260422T180911
CREATED:20250107T172013Z
LAST-MODIFIED:20250107T172013Z
UID:562-1738346400-1738353600@blueskycoffeedyt.com
SUMMARY:Watercolor Paint & Sip!
DESCRIPTION:Blue Sky After Dark presents: Watercolor Paint & Sip! \nCelebrate the season of love by crafting beautiful\, personalized watercolor cards. Whether you’re an experienced artist or a beginner\, Kiki Allison will provide step-by-step guidance to help you create three unique Valentine’s cards to share with your loved ones. Enjoy a relaxing evening of creativity\, complemented by your favorite beverage from our menu. \n  \nWhat’s Included: \n\nEntry to the event\nA complimentary drink of your choice\nGuided instruction by Kiki Allison\nAll necessary art supplies to create three Valentine’s-themed watercolor cards\n\n  \nHighlights: \n\nCreate three beautiful cards to take home\nAll ages welcome\nEnjoy a cozy and welcoming atmosphere\nPerfect for a night out with family\, friends\, date night\, or solo adventure\nNo prior painting experience needed\n\n  \nLimited seats\, so register today! We look forward to seeing you for an evening of art\, coffee\, and Valentine’s cheer!
URL:https://blueskycoffeedyt.com/calendar/watercolor-paint-sip/
LOCATION:Blue Sky Coffee\, 3070 Presidential Drive\, Fairborn\, OH\, 45324\, United States
END:VEVENT
BEGIN:VEVENT
DTSTART;TZID=America/New_York:20250124T100000
DTEND;TZID=America/New_York:20250124T120000
DTSTAMP:20260422T180911
CREATED:20250112T234715Z
LAST-MODIFIED:20250112T234715Z
UID:583-1737712800-1737720000@blueskycoffeedyt.com
SUMMARY:Social Knitting
DESCRIPTION:Looking for a cozy way to spend your Friday mornings? Join the Miami Valley Knitting Guild the 2nd and 4th Fridays of the month at Blue Sky Coffee! You don’t need to be a member\, all are welcome!  Bring your knitting projects\, sip on delicious coffee or tea\, and enjoy the company of fellow knitters in a relaxed\, creative environment. \n🧶 When: 2nd and 4th Fridays of the month\, 10:00 AM – 12:00 PM\n☕ Where: Blue Sky Coffee\, Fairborn\, OH\n🎟️ Cost: Free! No tickets or RSVP required—just stop by and join in the fun. \nWhether you’re a seasoned knitter or just starting out\, this is the perfect time to unwind\, share tips\, and connect with the knitting community. We can’t wait to see you there!
URL:https://blueskycoffeedyt.com/calendar/social-knitting/
LOCATION:Blue Sky Coffee\, 3070 Presidential Drive\, Fairborn\, OH\, 45324\, United States
END:VEVENT
BEGIN:VEVENT
DTSTART;TZID=America/New_York:20250121T180000
DTEND;TZID=America/New_York:20250121T200000
DTSTAMP:20260422T180911
CREATED:20241230T000342Z
LAST-MODIFIED:20241230T000342Z
UID:547-1737482400-1737489600@blueskycoffeedyt.com
SUMMARY:Music Open Mic with featured musician: Frank Calzada!
DESCRIPTION:Join us for an evening of music! \nThe first half will be an open mic\, and all musical styles are welcome. Come bring a song or two to share! For the second half\, we’ll have a special performance by local artist Frank Calzada\, sharing some originals and covers. \nWhether you plan to perform\, listen\, or just come out to support local musicians\, we look forward to seeing you there! \n*FREE ENTRY
URL:https://blueskycoffeedyt.com/calendar/music-open-mic-with-featured-musician-frank-calzada/
LOCATION:Blue Sky Coffee\, 3070 Presidential Drive\, Fairborn\, OH\, 45324\, United States
END:VEVENT
BEGIN:VEVENT
DTSTART;TZID=America/New_York:20250118T090000
DTEND;TZID=America/New_York:20250118T120000
DTSTAMP:20260422T180911
CREATED:20250109T020129Z
LAST-MODIFIED:20250111T144035Z
UID:572-1737190800-1737201600@blueskycoffeedyt.com
SUMMARY:Bread Pop-Up with Magic Gem Sweets!
DESCRIPTION:Local baker Magic Gem Sweets will be at the shop from 9am-12pm selling a selection of her delicious breads and treats! Stop by and grab a loaf of her famous Rainbow Bread\, a Mega Soft Pretzel\, or perhaps even her Ramen Focaccia?? We’ll see you there!
URL:https://blueskycoffeedyt.com/calendar/bread-pop-up-with-magic-gem-sweets/
LOCATION:Blue Sky Coffee\, 3070 Presidential Drive\, Fairborn\, OH\, 45324\, United States
END:VEVENT
BEGIN:VEVENT
DTSTART;TZID=America/New_York:20250114T180000
DTEND;TZID=America/New_York:20250114T200000
DTSTAMP:20260422T180911
CREATED:20241218T042500Z
LAST-MODIFIED:20250103T134707Z
UID:505-1736877600-1736884800@blueskycoffeedyt.com
SUMMARY:Poetry Open Mic with featured poet: Megan Purtell!
DESCRIPTION:Join us for an evening of poetry! \nThe first half will be an open mic and all styles are welcome! For the second half\, Dayton poet\, Megan Purtell\, will be sharing a selection of original poems. \nWhether you plan to read\, listen\, or just come out to support local artists\, we look forward to seeing you there! \n*FREE ENTRY
URL:https://blueskycoffeedyt.com/calendar/poetry-open-mic-with-featured-poet-megan-purtell/
LOCATION:Blue Sky Coffee\, 3070 Presidential Drive\, Fairborn\, OH\, 45324\, United States
END:VEVENT
BEGIN:VEVENT
DTSTART;TZID=America/New_York:20250113T180000
DTEND;TZID=America/New_York:20250113T200000
DTSTAMP:20260422T180911
CREATED:20241221T202504Z
LAST-MODIFIED:20250107T175925Z
UID:514-1736791200-1736798400@blueskycoffeedyt.com
SUMMARY:Silent Book Club
DESCRIPTION:Join other local book lovers to connect over stories and ideas at our monthly Silent Book Club. Bring your current read\, a new book you’ve been dying to delve into\, or grab a book off our shelves! Beginning January 13th\, 2025\, we meet the first Monday of every month. \nHow it works: \nIn the first half hour\, grab a drink\, a snack\, find a comfy spot to settle in\, and say hi to the other bibliophiles. We’ll then spend an hour silently reading our own books. A 5 minute warning will be given\, and we’ll shift into a discussion portion. This last half hour will be spent informally chatting about what we’ve all read and our thoughts. \nThis is a great way to connect with other readers\, get book recommendations\,  and get lost in a good story. Perfect for the avid reader\, or those looking to dip their feet back into reading! \n*FREE ENTRY
URL:https://blueskycoffeedyt.com/calendar/silent-book-club/
LOCATION:Blue Sky Coffee\, 3070 Presidential Drive\, Fairborn\, OH\, 45324\, United States
END:VEVENT
BEGIN:VEVENT
DTSTART;TZID=America/New_York:20241210T180000
DTEND;TZID=America/New_York:20241210T200000
DTSTAMP:20260422T180911
CREATED:20241117T012457Z
LAST-MODIFIED:20241202T235610Z
UID:334-1733853600-1733860800@blueskycoffeedyt.com
SUMMARY:Resin Ornament Class!
DESCRIPTION:Create Your Own Resin Ornament Workshop \n \nGet ready to craft one-of-a-kind ornaments at our Resin Ornament Workshop! Perfect for the holiday season\, this class will guide you through the basics of working with resin\, allowing you to create beautifully personalized ornaments. You’ll combine resin with a variety of beads\, vibrant colors\, and other embellishments to design something uniquely yours. Whether as a gift or a new addition to your own décor\, your handmade ornaments will shine! No experience necessary—just bring your creativity and let’s get crafting together! \nWhat’s included \n\nAll resin supplies and tools\nA selection of beads\, pigments\, and other decorative materials\nInstructional guidance through each step\nOne hand-crafted drink of your choosing\nAdditional drinks and baked goods available for purchase\n\n*resin requires 24 hours to cure. Ornaments can be stored at the shop to fully cure and be picked up at a later date.
URL:https://blueskycoffeedyt.com/calendar/resin-ornament-class/
LOCATION:Blue Sky Coffee\, 3070 Presidential Drive\, Fairborn\, OH\, 45324\, United States
END:VEVENT
BEGIN:VEVENT
DTSTART;TZID=America/New_York:20241203T180000
DTEND;TZID=America/New_York:20241203T200000
DTSTAMP:20260422T180911
CREATED:20241101T155321Z
LAST-MODIFIED:20241221T202810Z
UID:307-1733248800-1733256000@blueskycoffeedyt.com
SUMMARY:Music Open Mic with featured musician: Savi!
DESCRIPTION:Join us for an evening of music! \nThe first half will be an open mic\, and all musical styles are welcome! Come bring a song or two to share! For the second half\, we’ll have a special performance by local artist Savi\, sharing some originals. \nWhether you plan to perform\, listen\, or just come out to support local musicians\, we look forward to seeing you there! \n*FREE ENTRY
URL:https://blueskycoffeedyt.com/calendar/music-open-mic-with-featured-musician-savi/
LOCATION:Blue Sky Coffee\, 3070 Presidential Drive\, Fairborn\, OH\, 45324\, United States
END:VEVENT
BEGIN:VEVENT
DTSTART;TZID=America/New_York:20241122T180000
DTEND;TZID=America/New_York:20241122T200000
DTSTAMP:20260422T180911
CREATED:20241105T234820Z
LAST-MODIFIED:20241105T234820Z
UID:312-1732298400-1732305600@blueskycoffeedyt.com
SUMMARY:Paint and Sip!
DESCRIPTION:  \nBlue Sky Coffee After Dark presents: Paint and Sip! \nJoin us for a delightful evening of creativity and relaxation! Whether you’re an experienced artist or just looking for a fun night out\, this is the perfect opportunity to unwind\, express yourself\, and enjoy some delicious drinks. \nWhat’s Included: \n\nAll painting supplies (canvas\, brushes\, paints)\nStep-by-step instruction by a talented local artist\nOne complimentary specialty coffee drink of your choice\nAdditional drinks and treats available for purchase\n\nHighlights: \n\nCreate a beautiful piece of art to take home\nEnjoy a cozy and welcoming atmosphere\nPerfect for a night out with family\, friends\, date night\, or solo adventure\nNo prior painting experience needed\n\nCome sip on your favorite coffee and unleash your inner artist. Limited seats available\, so be sure to reserve your spot today!
URL:https://blueskycoffeedyt.com/calendar/paint-and-sip-2/
LOCATION:Blue Sky Coffee\, 3070 Presidential Drive\, Fairborn\, OH\, 45324\, United States
END:VEVENT
BEGIN:VEVENT
DTSTART;TZID=America/New_York:20241119T180000
DTEND;TZID=America/New_York:20241119T200000
DTSTAMP:20260422T180911
CREATED:20241027T042413Z
LAST-MODIFIED:20241027T042904Z
UID:301-1732039200-1732046400@blueskycoffeedyt.com
SUMMARY:Poetry Open Mic with featured poet: Kat King!
DESCRIPTION:Join us for an evening of poetry! \nThe first half will be an open mic and all styles are welcome! For the second half\, Dayton poet\, host\, and content creator\, Kat King\, will be sharing a selection of original poems. \nWhether you plan to read\, listen\, or just come out to support local artists\, we look forward to seeing you there!
URL:https://blueskycoffeedyt.com/calendar/poetry-open-mic-with-featured-poet-kat-king/
LOCATION:Blue Sky Coffee\, 3070 Presidential Drive\, Fairborn\, OH\, 45324\, United States
END:VEVENT
BEGIN:VEVENT
DTSTART;TZID=America/New_York:20241114T180000
DTEND;TZID=America/New_York:20241114T200000
DTSTAMP:20260422T180911
CREATED:20241106T064616Z
LAST-MODIFIED:20241113T185840Z
UID:316-1731607200-1731614400@blueskycoffeedyt.com
SUMMARY:Blackout Poetry!
DESCRIPTION:  \nUnleash your creativity at our Blackout Poetry Night! Join us for an evening of poetic expression\, where you’ll transform book pages into your own works of art. We’ll provide everything you need: book pages\, frames\, pens\, pencils\, markers\, and guidance to spark your ideas. With general instruction and complete creative freedom\, you’ll get to create something truly unique to take home. Plus\, enjoy a complimentary drink of your choice as you craft. Whether you’re new to poetry or a seasoned wordsmith\, come make a masterpiece with us! \n  \nTicket includes \n\n1 complementary drink\n1 frame\, book page\, and necessary creative tools\nIntroductory instruction about blackout poetry\nAdditional drinks and snacks available for purchase
URL:https://blueskycoffeedyt.com/calendar/blackout-poetry/
LOCATION:Blue Sky Coffee\, 3070 Presidential Drive\, Fairborn\, OH\, 45324\, United States
END:VEVENT
BEGIN:VEVENT
DTSTART;TZID=America/New_York:20241029T180000
DTEND;TZID=America/New_York:20241029T200000
DTSTAMP:20260422T180911
CREATED:20241021T195231Z
LAST-MODIFIED:20241021T195231Z
UID:276-1730224800-1730232000@blueskycoffeedyt.com
SUMMARY:Music Open Mic with featured Musician: Chelsea Paige!
DESCRIPTION:Join us for an evening of music! \nThe first half will be an open mic\, and all musical styles are welcome! Come bring a song or two to share! For the second half\, we’ll have a special performance by local artist Chelsea Paige\, sharing some originals as well as covers. \nWhether you plan to perform\, listen\, or just come out to support local musicians\, we look forward to seeing you there!
URL:https://blueskycoffeedyt.com/calendar/music-open-mic-with-featured-musician-chelsea-paige/
LOCATION:Blue Sky Coffee\, 3070 Presidential Drive\, Fairborn\, OH\, 45324\, United States
END:VEVENT
BEGIN:VEVENT
DTSTART;TZID=America/New_York:20241028T180000
DTEND;TZID=America/New_York:20241028T200000
DTSTAMP:20260422T180911
CREATED:20241021T200252Z
LAST-MODIFIED:20241028T160519Z
UID:281-1730138400-1730145600@blueskycoffeedyt.com
SUMMARY:Quiet Study Night
DESCRIPTION:Looking for a peaceful spot to focus? Join us for a Quiet Study Night at Blue Sky Coffee. Enjoy a calm atmosphere\, free Wi-Fi\, and plenty seating and cozy drinks to help you get your work done. Whether you’re prepping for exams or catching up on assignments\, we’ve got the perfect space for you! \nFree math/physics tutor will be on-site al night long!
URL:https://blueskycoffeedyt.com/calendar/quiet-study-night-2/
LOCATION:Blue Sky Coffee\, 3070 Presidential Drive\, Fairborn\, OH\, 45324\, United States
END:VEVENT
BEGIN:VEVENT
DTSTART;TZID=America/New_York:20241025T180000
DTEND;TZID=America/New_York:20241025T200000
DTSTAMP:20260422T180911
CREATED:20241017T174316Z
LAST-MODIFIED:20241021T181643Z
UID:264-1729879200-1729886400@blueskycoffeedyt.com
SUMMARY:Sip and Stitch
DESCRIPTION:Blue Sky Coffee After Dark presents: Sip and Stitch! \nJoin us for a cozy evening of creativity and relaxation! Whether you’re an experienced crocheter or just looking for a fun night out\, this is the perfect opportunity to unwind\, learn something new\, and enjoy a delicious drink. \nWhat’s Included: \n\nAll crochet materials (yarn\, hooks\, patterns)\nStep-by-step instruction by a talented local crocheter\nOne complimentary handcrafted drink of your choice\nAdditional drinks and treats available for purchase\n\nHighlights: \n\nCreate a handmade crochet project to take home\nEnjoy a warm and welcoming atmosphere\nPerfect for a night out with family\, friends\, date night\, or solo adventure\nNo prior crochet experience needed\n\nCome sip on your favorite coffee and unleash your creativity. Limited seats available\, so be sure to reserve your spot today!
URL:https://blueskycoffeedyt.com/calendar/sip-and-stitch/
LOCATION:Blue Sky Coffee\, 3070 Presidential Drive\, Fairborn\, OH\, 45324\, United States
END:VEVENT
BEGIN:VEVENT
DTSTART;TZID=America/New_York:20241022T180000
DTEND;TZID=America/New_York:20241022T200000
DTSTAMP:20260422T180911
CREATED:20240926T182408Z
LAST-MODIFIED:20240926T182408Z
UID:259-1729620000-1729627200@blueskycoffeedyt.com
SUMMARY:Poetry Open Mic with featured poet: Sierra Smith!
DESCRIPTION:Join us for an evening of poetry! \nThe first half will be an open mic and all styles are welcome! For the second half\, Sierra Smith will be sharing a selection of poems from her new book\, Eden. \nWhether you plan to read\, listen\, or just come out to support local artists\, we look forward to seeing you there!
URL:https://blueskycoffeedyt.com/calendar/poetry-open-mic-with-featured-poet-sierra-smith/
LOCATION:Blue Sky Coffee\, 3070 Presidential Drive\, Fairborn\, OH\, 45324\, United States
END:VEVENT
BEGIN:VEVENT
DTSTART;TZID=America/New_York:20241021T180000
DTEND;TZID=America/New_York:20241021T200000
DTSTAMP:20260422T180911
CREATED:20241021T200105Z
LAST-MODIFIED:20241021T200105Z
UID:279-1729533600-1729540800@blueskycoffeedyt.com
SUMMARY:Quiet Study Night
DESCRIPTION:Looking for a peaceful spot to focus? Join us for a Quiet Study Night at Blue Sky Coffee. Enjoy a calm atmosphere\, free Wi-Fi\, and plenty seating and cozy drinks to help you get your work done. Whether you’re prepping for exams or catching up on assignments\, we’ve got the perfect space for you!
URL:https://blueskycoffeedyt.com/calendar/quiet-study-night/
LOCATION:Blue Sky Coffee\, 3070 Presidential Drive\, Fairborn\, OH\, 45324\, United States
END:VEVENT
BEGIN:VEVENT
DTSTART;TZID=America/New_York:20241017T180000
DTEND;TZID=America/New_York:20241017T200000
DTSTAMP:20260422T180911
CREATED:20240924T201720Z
LAST-MODIFIED:20240924T201720Z
UID:241-1729188000-1729195200@blueskycoffeedyt.com
SUMMARY:Pumpkins & Pour
DESCRIPTION:Come join us for an evening of pumpkin painting fun! \nWe’ll provide you \n\n1 Pumpkin\n1 Beverage of Your Choosing\nPaint Supplies\n\nYou provide the creativity! \nSo grab a friend and come celebrate the Fall season with us!
URL:https://blueskycoffeedyt.com/calendar/pumpkins-pour/
LOCATION:Blue Sky Coffee\, 3070 Presidential Drive\, Fairborn\, OH\, 45324\, United States
END:VEVENT
BEGIN:VEVENT
DTSTART;TZID=America/New_York:20240914T080000
DTEND;TZID=America/New_York:20240914T160000
DTSTAMP:20260422T180911
CREATED:20240905T211903Z
LAST-MODIFIED:20240905T211903Z
UID:224-1726300800-1726329600@blueskycoffeedyt.com
SUMMARY:Back To School Bash!
DESCRIPTION:Starting the year as a middle\, high school\, or college student? Join us for our back to school bash! \nShow your student ID for a free cookie! Prizes\, raffles\, contests\, and more! Don’t miss out – celebrate the new school year with us!
URL:https://blueskycoffeedyt.com/calendar/back-to-school-bash/
LOCATION:Blue Sky Coffee\, 3070 Presidential Drive\, Fairborn\, OH\, 45324\, United States
END:VEVENT
BEGIN:VEVENT
DTSTART;TZID=America/New_York:20240912T180000
DTEND;TZID=America/New_York:20240912T200000
DTSTAMP:20260422T180911
CREATED:20240905T025811Z
LAST-MODIFIED:20240905T025811Z
UID:222-1726164000-1726171200@blueskycoffeedyt.com
SUMMARY:Poetry Open Mic with Featured Poet: Adelia Jupiter!
DESCRIPTION:Join us for an evening of poetry! \nThe first half will be an open mic and all styles are welcome! For the second half\, Adelia Jupiter will be sharing a selection of poems from their new book\, Polychotomy. \nWhether you plan to read\, listen\, or just come out to support local artists\, we look forward to seeing you there!
URL:https://blueskycoffeedyt.com/calendar/poetry-open-mic-with-featured-poet-adelia-jupiter/
LOCATION:Blue Sky Coffee\, 3070 Presidential Drive\, Fairborn\, OH\, 45324\, United States
END:VEVENT
BEGIN:VEVENT
DTSTART;TZID=America/New_York:20240802T180000
DTEND;TZID=America/New_York:20240802T200000
DTSTAMP:20260422T180911
CREATED:20240718T185122Z
LAST-MODIFIED:20240718T185122Z
UID:187-1722621600-1722628800@blueskycoffeedyt.com
SUMMARY:Paint and Sip
DESCRIPTION:Blue Sky Coffee After Dark presents: Paint and Sip! \nJoin us for a delightful evening of creativity and relaxation! Whether you’re an experienced artist or just looking for a fun night out\, this is the perfect opportunity to unwind\, express yourself\, and enjoy some delicious drinks. \nWhat’s Included: \n\nAll painting supplies (canvas\, brushes\, paints)\nStep-by-step instruction by a talented local artist\nOne complimentary specialty coffee drink of your choice\nLight snacks and treats\nAdditional drinks and treats available for purchase\n\nHighlights: \n\nCreate a beautiful piece of art to take home\nEnjoy a cozy and welcoming atmosphere\nPerfect for a night out with family\, friends\, date night\, or solo adventure\nNo prior painting experience needed\n\nCome sip on your favorite coffee and unleash your inner artist. Limited seats available\, so be sure to reserve your spot today!
URL:https://blueskycoffeedyt.com/calendar/paint-and-sip/
LOCATION:Blue Sky Coffee\, 3070 Presidential Drive\, Fairborn\, OH\, 45324\, United States
END:VEVENT
BEGIN:VEVENT
DTSTART;VALUE=DATE:20240729
DTEND;VALUE=DATE:20240730
DTSTAMP:20260422T180911
CREATED:20240527T054441Z
LAST-MODIFIED:20240625T200932Z
UID:157-1722211200-1722297599@blueskycoffeedyt.com
SUMMARY:Military Mondays
DESCRIPTION:Every Monday\, active duty military and veterans receive 20% off all drink purchases. It’s our way of saying thank you for your service. Come on in\, enjoy a fresh cup!
URL:https://blueskycoffeedyt.com/calendar/military-mondays-10/
LOCATION:OH
END:VEVENT
BEGIN:VEVENT
DTSTART;VALUE=DATE:20240722
DTEND;VALUE=DATE:20240723
DTSTAMP:20260422T180911
CREATED:20240527T054417Z
LAST-MODIFIED:20240527T054417Z
UID:155-1721606400-1721692799@blueskycoffeedyt.com
SUMMARY:Military Mondays
DESCRIPTION:Every Monday\, active duty military and veterans receive 20% off all drink purchases. It’s our way of saying thank you for your service. Come on in\, enjoy a fresh cup!
URL:https://blueskycoffeedyt.com/calendar/military-mondays-9/
LOCATION:OH
END:VEVENT
BEGIN:VEVENT
DTSTART;TZID=America/New_York:20240716T180000
DTEND;TZID=America/New_York:20240716T200000
DTSTAMP:20260422T180911
CREATED:20240618T004336Z
LAST-MODIFIED:20240715T182211Z
UID:172-1721152800-1721160000@blueskycoffeedyt.com
SUMMARY:Poetry Open Mic w/ featured poet Edd The Wordsmith!
DESCRIPTION:Join us for an evening of poetry! All styles are welcome. Whether you wish to read or simply listen\, we look forward to seeing you there!
URL:https://blueskycoffeedyt.com/calendar/poetry-open-mic-2/
LOCATION:OH
END:VEVENT
BEGIN:VEVENT
DTSTART;VALUE=DATE:20240715
DTEND;VALUE=DATE:20240716
DTSTAMP:20260422T180911
CREATED:20240527T054326Z
LAST-MODIFIED:20240527T054326Z
UID:151-1721001600-1721087999@blueskycoffeedyt.com
SUMMARY:Military Mondays
DESCRIPTION:Every Monday\, active duty military and veterans receive 20% off all drink purchases. It’s our way of saying thank you for your service. Come on in\, enjoy a fresh cup!
URL:https://blueskycoffeedyt.com/calendar/military-mondays-7/
LOCATION:OH
END:VEVENT
BEGIN:VEVENT
DTSTART;TZID=America/New_York:20240711T180000
DTEND;TZID=America/New_York:20240711T200000
DTSTAMP:20260422T180911
CREATED:20240706T010250Z
LAST-MODIFIED:20240715T182236Z
UID:178-1720720800-1720728000@blueskycoffeedyt.com
SUMMARY:Game Night hosted by Room And Board Gaming
DESCRIPTION:Come join us and our friends from Room and Board Gaming for a night of fun\, competition\, and camaraderie! Whether you’re a seasoned gamer or new to the world of board games\, there’s something for everyone. Enjoy a variety of exciting games\, delicious coffee\, and great company!
URL:https://blueskycoffeedyt.com/calendar/game-night-hosted-by-room-and-board-gaming/
LOCATION:OH
END:VEVENT
BEGIN:VEVENT
DTSTART;VALUE=DATE:20240708
DTEND;VALUE=DATE:20240709
DTSTAMP:20260422T180911
CREATED:20240527T054258Z
LAST-MODIFIED:20240527T054258Z
UID:149-1720396800-1720483199@blueskycoffeedyt.com
SUMMARY:Military Mondays
DESCRIPTION:Every Monday\, active duty military and veterans receive 20% off all drink purchases. It’s our way of saying thank you for your service. Come on in\, enjoy a fresh cup!
URL:https://blueskycoffeedyt.com/calendar/military-mondays-6/
LOCATION:OH
END:VEVENT
END:VCALENDAR