BEGIN:VCALENDAR
VERSION:2.0
PRODID:-//Blue Sky Coffee - ECPv6.15.20//NONSGML v1.0//EN
CALSCALE:GREGORIAN
METHOD:PUBLISH
X-ORIGINAL-URL:https://blueskycoffeedyt.com
X-WR-CALDESC:Events for Blue Sky Coffee
REFRESH-INTERVAL;VALUE=DURATION:PT1H
X-Robots-Tag:noindex
X-PUBLISHED-TTL:PT1H
BEGIN:VTIMEZONE
TZID:America/New_York
BEGIN:DAYLIGHT
TZOFFSETFROM:-0500
TZOFFSETTO:-0400
TZNAME:EDT
DTSTART:20240310T070000
END:DAYLIGHT
BEGIN:STANDARD
TZOFFSETFROM:-0400
TZOFFSETTO:-0500
TZNAME:EST
DTSTART:20241103T060000
END:STANDARD
BEGIN:DAYLIGHT
TZOFFSETFROM:-0500
TZOFFSETTO:-0400
TZNAME:EDT
DTSTART:20250309T070000
END:DAYLIGHT
BEGIN:STANDARD
TZOFFSETFROM:-0400
TZOFFSETTO:-0500
TZNAME:EST
DTSTART:20251102T060000
END:STANDARD
BEGIN:DAYLIGHT
TZOFFSETFROM:-0500
TZOFFSETTO:-0400
TZNAME:EDT
DTSTART:20260308T070000
END:DAYLIGHT
BEGIN:STANDARD
TZOFFSETFROM:-0400
TZOFFSETTO:-0500
TZNAME:EST
DTSTART:20261101T060000
END:STANDARD
END:VTIMEZONE
BEGIN:VEVENT
DTSTART;TZID=America/New_York:20250404T180000
DTEND;TZID=America/New_York:20250404T200000
DTSTAMP:20260422T030816
CREATED:20250225T154341Z
LAST-MODIFIED:20250225T154341Z
UID:675-1743789600-1743796800@blueskycoffeedyt.com
SUMMARY:Watercolor Paint & Sip "Spring Sampler 🌸"
DESCRIPTION:Welcome the season of renewal with an evening of creativity at our Spring Sampler event! On April 4th from 6-8 PM\, join us for a hands-on workshop where you’ll craft a spring-inspired card\, a laminated bookmark\, and a small bouquet painting—perfect keepsakes to celebrate the beauty of the season. \nWhether you’re a seasoned artist or just starting out\, Kiki Allison will guide you step by step\, making this a fun and relaxing experience for all skill levels. Plus\, enjoy your favorite drink from our menu as you unwind and create in our cozy space. \n  \nWhat’s Included: \n\nEntry to the event\nA complimentary drink of your choice\nGuided instruction by Kiki Allison\nAll necessary art supplies\n\n  \nHighlights: \n\nCreate three beautiful projects to take home\nAll ages welcome\nEnjoy a cozy and welcoming atmosphere\nPerfect for a night out with family\, friends\, date night\, or solo adventure\nNo prior painting experience needed\n\n  \nLet’s capture the essence of spring together—reserve your spot today! 🌸🎨✨
URL:https://blueskycoffeedyt.com/calendar/watercolor-paint-sip-spring-sampler-%f0%9f%8c%b8/
LOCATION:Blue Sky Coffee\, 3070 Presidential Drive\, Fairborn\, OH\, 45324\, United States
END:VEVENT
BEGIN:VEVENT
DTSTART;TZID=America/New_York:20250407T180000
DTEND;TZID=America/New_York:20250407T200000
DTSTAMP:20260422T030816
CREATED:20241221T231525Z
LAST-MODIFIED:20241221T231644Z
UID:527-1744048800-1744056000@blueskycoffeedyt.com
SUMMARY:Silent Book Club
DESCRIPTION:Join other local book lovers to connect over stories and ideas at our monthly Silent Book Club. Bring your current read\, a new book you’ve been dying to delve into\, or grab a book off our shelves! We meet the first Monday of every month. \nHow it works: \nIn the first half hour\, grab a drink\, a snack\, find a comfy spot to settle in\, and say hi to the other bibliophiles. We’ll then spend an hour silently reading our own books. A 5 minute warning will be given\, and we’ll shift into a discussion portion. This last half hour will be spent informally chatting about what we’ve all read and our thoughts. \nThis is a great way to connect with other readers\, get book recommendations\,  and get lost in a good story. Perfect for the avid reader\, or those looking to dip their feet back into reading! \n*FREE ENTRY
URL:https://blueskycoffeedyt.com/calendar/silent-book-club-4/
LOCATION:Blue Sky Coffee\, 3070 Presidential Drive\, Fairborn\, OH\, 45324\, United States
END:VEVENT
BEGIN:VEVENT
DTSTART;TZID=America/New_York:20250408T180000
DTEND;TZID=America/New_York:20250408T200000
DTSTAMP:20260422T030816
CREATED:20250110T121440Z
LAST-MODIFIED:20250110T121440Z
UID:575-1744135200-1744142400@blueskycoffeedyt.com
SUMMARY:Poetry Open Mic with featured poet: True Rivir Newland!
DESCRIPTION:Join us for an evening of poetry! \nThe first half will be an open mic and all styles are welcome! For the second half\, Dayton poet\, True Rivir Newland\, will be sharing a selection of original poems from his recent book “Blurryvisions” and more! \nWhether you plan to read\, listen\, or just come out to support local artists\, we look forward to seeing you there! \n*FREE ENTRY
URL:https://blueskycoffeedyt.com/calendar/poetry-open-mic-with-featured-poet-true-rivir-newland/
LOCATION:Blue Sky Coffee\, 3070 Presidential Drive\, Fairborn\, OH\, 45324\, United States
END:VEVENT
BEGIN:VEVENT
DTSTART;TZID=America/New_York:20250410T180000
DTEND;TZID=America/New_York:20250410T200000
DTSTAMP:20260422T030816
CREATED:20250325T155744Z
LAST-MODIFIED:20250325T190408Z
UID:764-1744308000-1744315200@blueskycoffeedyt.com
SUMMARY:Sip & Bake: Cookie Decorating with Anchored Baking Co. 🍪
DESCRIPTION:Join us for a delightful evening of Easter-themed cookie decorating! 🐣🌸 Learn beginner-friendly royal icing techniques as we decorate a set of six festive cookies together. You’ll take home your beautifully decorated cookies to enjoy or share! \n📅 Date: April 10th⏰ Time: 6:00–8:00 PM📍 Location: Blue Sky Coffee \n🎟️ Tickets are $35 and include: – Event admission – Step-by-step guidance on decorating Easter-themed cookies – 6 cookies to decorate and take home – All necessary decorating supplies – One Blue Sky drink of your choice \nSpots are limited\, so grab your ticket and get ready for a sweet and creative evening! 🍪✨
URL:https://blueskycoffeedyt.com/calendar/sip-bake-cookie-decorating-with-anchored-baking-co-%f0%9f%8d%aa-2/
LOCATION:Blue Sky Coffee\, 3070 Presidential Drive\, Fairborn\, OH\, 45324\, United States
END:VEVENT
BEGIN:VEVENT
DTSTART;TZID=America/New_York:20250412T080000
DTEND;TZID=America/New_York:20250412T170000
DTSTAMP:20260422T030816
CREATED:20250323T160911Z
LAST-MODIFIED:20250323T163006Z
UID:753-1744444800-1744477200@blueskycoffeedyt.com
SUMMARY:Blue Sky Birthday Bash 🎂
DESCRIPTION:Join us on Saturday\, April 12\, as we celebrate Blue Sky Coffee’s 1st birthday! We’re throwing an all-day party filled with creativity\, community\, and\, of course\, coffee. \n  \n☁️ 8 AM – 3 PM: Birthday Bash \n🍪  Free cookies with every drink! \n🎨 Live art & music \n🦋  Face painting \n🎁 Giveaways & surprises \n🥓 Tasty Bacon’s Food Truck \n🖌️  Design Contest – Show off your creativity for a chance to win prizes! \n  \n🪩  3 PM – 5 PM: Afterparty with Isicle!\nStick around for an extra dose of fun with a special performance by Isicle\, a photo booth\, and exclusive birthday festivities. \nCome celebrate a year of caffeinated creativity with us—because Blue Sky wouldn’t be the same without YOU! 💙🎂 #BlueSkyBirthdayBash
URL:https://blueskycoffeedyt.com/calendar/blue-sky-birthday-bash-%f0%9f%8e%82/
LOCATION:Blue Sky Coffee\, 3070 Presidential Drive\, Fairborn\, OH\, 45324\, United States
END:VEVENT
BEGIN:VEVENT
DTSTART;TZID=America/New_York:20250425T100000
DTEND;TZID=America/New_York:20250425T120000
DTSTAMP:20260422T030816
CREATED:20250422T185031Z
LAST-MODIFIED:20250422T185031Z
UID:793-1745575200-1745582400@blueskycoffeedyt.com
SUMMARY:Social Knitting
DESCRIPTION:Looking for a cozy way to spend your Friday mornings? Join the Miami Valley Knitting Guild the 2nd and 4th Fridays of the month at Blue Sky Coffee! You don’t need to be a member\, all are welcome!  Bring your knitting projects\, sip on delicious coffee or tea\, and enjoy the company of fellow knitters in a relaxed\, creative environment. \n🧶 When: 2nd and 4th Fridays of the month\, 10:00 AM – 12:00 PM\n☕ Where: Blue Sky Coffee\, Fairborn\, OH\n🎟️ Cost: Free! No tickets or RSVP required—just stop by and join in the fun. \nWhether you’re a seasoned knitter or just starting out\, this is the perfect time to unwind\, share tips\, and connect with the knitting community. We can’t wait to see you there!
URL:https://blueskycoffeedyt.com/calendar/social-knitting-2/
LOCATION:Blue Sky Coffee\, 3070 Presidential Drive\, Fairborn\, OH\, 45324\, United States
END:VEVENT
BEGIN:VEVENT
DTSTART;TZID=America/New_York:20250426T083000
DTEND;TZID=America/New_York:20250426T150000
DTSTAMP:20260422T030816
CREATED:20250321T141603Z
LAST-MODIFIED:20250321T141603Z
UID:730-1745656200-1745679600@blueskycoffeedyt.com
SUMMARY:Baked Goods Pop-Up with "10:31 Homemade Goods!"
DESCRIPTION:Stop by April 26th anytime between 8:30 – 3:00 to pick up some delicious baked goods from 10:30 Homemade Goods! She’ll have brownies\, bagels\, breads\, and more! Perfect to pair with your morning coffee or tea ☕️ 🫖
URL:https://blueskycoffeedyt.com/calendar/baked-goods-pop-up-with-1031-homemade-goods/
LOCATION:Blue Sky Coffee\, 3070 Presidential Drive\, Fairborn\, OH\, 45324\, United States
END:VEVENT
END:VCALENDAR