BEGIN:VCALENDAR
VERSION:2.0
PRODID:-//Blue Sky Coffee - ECPv6.15.20//NONSGML v1.0//EN
CALSCALE:GREGORIAN
METHOD:PUBLISH
X-ORIGINAL-URL:https://blueskycoffeedyt.com
X-WR-CALDESC:Events for Blue Sky Coffee
REFRESH-INTERVAL;VALUE=DURATION:PT1H
X-Robots-Tag:noindex
X-PUBLISHED-TTL:PT1H
BEGIN:VTIMEZONE
TZID:America/New_York
BEGIN:DAYLIGHT
TZOFFSETFROM:-0500
TZOFFSETTO:-0400
TZNAME:EDT
DTSTART:20240310T070000
END:DAYLIGHT
BEGIN:STANDARD
TZOFFSETFROM:-0400
TZOFFSETTO:-0500
TZNAME:EST
DTSTART:20241103T060000
END:STANDARD
BEGIN:DAYLIGHT
TZOFFSETFROM:-0500
TZOFFSETTO:-0400
TZNAME:EDT
DTSTART:20250309T070000
END:DAYLIGHT
BEGIN:STANDARD
TZOFFSETFROM:-0400
TZOFFSETTO:-0500
TZNAME:EST
DTSTART:20251102T060000
END:STANDARD
BEGIN:DAYLIGHT
TZOFFSETFROM:-0500
TZOFFSETTO:-0400
TZNAME:EDT
DTSTART:20260308T070000
END:DAYLIGHT
BEGIN:STANDARD
TZOFFSETFROM:-0400
TZOFFSETTO:-0500
TZNAME:EST
DTSTART:20261101T060000
END:STANDARD
END:VTIMEZONE
BEGIN:VEVENT
DTSTART;TZID=America/New_York:20250505T180000
DTEND;TZID=America/New_York:20250505T200000
DTSTAMP:20260422T012537
CREATED:20241221T231621Z
LAST-MODIFIED:20241221T231621Z
UID:529-1746468000-1746475200@blueskycoffeedyt.com
SUMMARY:Silent Book Club
DESCRIPTION:Join other local book lovers to connect over stories and ideas at our monthly Silent Book Club. Bring your current read\, a new book you’ve been dying to delve into\, or grab a book off our shelves! We meet the first Monday of every month. \nHow it works: \nIn the first half hour\, grab a drink\, a snack\, find a comfy spot to settle in\, and say hi to the other bibliophiles. We’ll then spend an hour silently reading our own books. A 5 minute warning will be given\, and we’ll shift into a discussion portion. This last half hour will be spent informally chatting about what we’ve all read and our thoughts. \nThis is a great way to connect with other readers\, get book recommendations\,  and get lost in a good story. Perfect for the avid reader\, or those looking to dip their feet back into reading! \n*FREE ENTRY
URL:https://blueskycoffeedyt.com/calendar/silent-book-club-5/
LOCATION:Blue Sky Coffee\, 3070 Presidential Drive\, Fairborn\, OH\, 45324\, United States
END:VEVENT
BEGIN:VEVENT
DTSTART;TZID=America/New_York:20250509T100000
DTEND;TZID=America/New_York:20250509T120000
DTSTAMP:20260422T012537
CREATED:20250422T185110Z
LAST-MODIFIED:20250422T185110Z
UID:795-1746784800-1746792000@blueskycoffeedyt.com
SUMMARY:Social Knitting
DESCRIPTION:Looking for a cozy way to spend your Friday mornings? Join the Miami Valley Knitting Guild the 2nd and 4th Fridays of the month at Blue Sky Coffee! You don’t need to be a member\, all are welcome!  Bring your knitting projects\, sip on delicious coffee or tea\, and enjoy the company of fellow knitters in a relaxed\, creative environment. \n🧶 When: 2nd and 4th Fridays of the month\, 10:00 AM – 12:00 PM\n☕ Where: Blue Sky Coffee\, Fairborn\, OH\n🎟️ Cost: Free! No tickets or RSVP required—just stop by and join in the fun. \nWhether you’re a seasoned knitter or just starting out\, this is the perfect time to unwind\, share tips\, and connect with the knitting community. We can’t wait to see you there!
URL:https://blueskycoffeedyt.com/calendar/social-knitting-3/
LOCATION:Blue Sky Coffee\, 3070 Presidential Drive\, Fairborn\, OH\, 45324\, United States
END:VEVENT
BEGIN:VEVENT
DTSTART;TZID=America/New_York:20250509T180000
DTEND;TZID=America/New_York:20250509T200000
DTSTAMP:20260422T012537
CREATED:20250321T162954Z
LAST-MODIFIED:20250509T112118Z
UID:744-1746813600-1746820800@blueskycoffeedyt.com
SUMMARY:Wire-Wrapped Trees: A Three-Part Workshop with Jenn & Shanon Queen [PART 1]
DESCRIPTION:Discover the art of wire wrapping in this immersive three-day workshop\, where you’ll craft your own stunning wire-wrapped tree sculpture. Join us on May 9\, 16\, and 23 as local artists Jenn & Shanon Queen guides you through the process of twisting\, shaping\, and designing intricate tree forms from wire. \nWhether you’re a beginner or have experience with wire art\, this hands-on class is designed to be both engaging and relaxing. Each session will build upon the last\, allowing you to refine your skills and create a beautiful\, one-of-a-kind piece to take home. Enjoy a drink from our menu each night as you unwind and bring your tree to life. \nWhat’s Included:\n✔️ Entry to all three workshop sessions✔️ Expert instruction by Jenn & Shanon Queen✔️ All materials needed to create your wire-wrapped tree✔️ A complimentary drink each night \n📅 Dates: May 9\, 16\, & 23💰 Cost: $65 per person📍 Location: Blue Sky Coffee \nSpots are limited—reserve yours today! 🌿
URL:https://blueskycoffeedyt.com/calendar/wire-wrapped-trees-a-three-part-workshop-with-jenn-queen/
LOCATION:Blue Sky Coffee\, 3070 Presidential Drive\, Fairborn\, OH\, 45324\, United States
END:VEVENT
BEGIN:VEVENT
DTSTART;TZID=America/New_York:20250510T080000
DTEND;TZID=America/New_York:20250510T130000
DTSTAMP:20260422T012537
CREATED:20250508T135813Z
LAST-MODIFIED:20250508T135813Z
UID:811-1746864000-1746882000@blueskycoffeedyt.com
SUMMARY:Page Peddler Pop-Up!
DESCRIPTION:Stop by today for coffee and books! The Touring Page Peddler will be in with a wide selection of books for purchase. Come browse her selection\, get some recommendation\, and start your day with fresh coffee and a good read 📖
URL:https://blueskycoffeedyt.com/calendar/page-peddler-pop-up/
LOCATION:Blue Sky Coffee\, 3070 Presidential Drive\, Fairborn\, OH\, 45324\, United States
END:VEVENT
BEGIN:VEVENT
DTSTART;TZID=America/New_York:20250513T180000
DTEND;TZID=America/New_York:20250513T200000
DTSTAMP:20260422T012537
CREATED:20250321T142342Z
LAST-MODIFIED:20250321T142952Z
UID:735-1747159200-1747166400@blueskycoffeedyt.com
SUMMARY:Poetry Open Mic with featured poet: Elisa J. Stevenson!
DESCRIPTION:Join us for an evening of poetry! \nThe first half will be an open mic and all styles are welcome! For the second half\, Dayton poet\, Elisa J. Stevenson\, will be sharing a selection of original poems from her recent book “Before It Bleeds“! \nWhether you plan to read\, listen\, or just come out to support local artists\, we look forward to seeing you there! \n*FREE ENTRY
URL:https://blueskycoffeedyt.com/calendar/poetry-open-mic-with-featured-poet-elisa-j-stevenson/
LOCATION:Blue Sky Coffee\, 3070 Presidential Drive\, Fairborn\, OH\, 45324\, United States
END:VEVENT
BEGIN:VEVENT
DTSTART;TZID=America/New_York:20250516T180000
DTEND;TZID=America/New_York:20250516T200000
DTSTAMP:20260422T012537
CREATED:20250325T162406Z
LAST-MODIFIED:20250325T162406Z
UID:769-1747418400-1747425600@blueskycoffeedyt.com
SUMMARY:Wire-Wrapped Trees: A Three-Part Workshop with Jenn & Shanon Queen [PART 2]
DESCRIPTION:Discover the art of wire wrapping in this immersive three-day workshop\, where you’ll craft your own stunning wire-wrapped tree sculpture. Join us on May 9\, 16\, and 23 as local artists Jenn & Shanon Queen guides you through the process of twisting\, shaping\, and designing intricate tree forms from wire. \nWhether you’re a beginner or have experience with wire art\, this hands-on class is designed to be both engaging and relaxing. Each session will build upon the last\, allowing you to refine your skills and create a beautiful\, one-of-a-kind piece to take home. Enjoy a drink from our menu each night as you unwind and bring your tree to life. \nWhat’s Included:\n✔️ Entry to all three workshop sessions✔️ Expert instruction by Jenn & Shanon Queen✔️ All materials needed to create your wire-wrapped tree✔️ A complimentary drink each night \n📅 Dates: May 9\, 16\, & 23💰 Cost: $65 per person📍 Location: Blue Sky Coffee \n[TICKETS HERE] \nSpots are limited—reserve yours today! 🌿
URL:https://blueskycoffeedyt.com/calendar/wire-wrapped-trees-a-three-part-workshop-with-jenn-shanon-queen-part-2/
LOCATION:Blue Sky Coffee\, 3070 Presidential Drive\, Fairborn\, OH\, 45324\, United States
END:VEVENT
BEGIN:VEVENT
DTSTART;TZID=America/New_York:20250523T100000
DTEND;TZID=America/New_York:20250523T120000
DTSTAMP:20260422T012537
CREATED:20250422T185141Z
LAST-MODIFIED:20250422T185141Z
UID:797-1747994400-1748001600@blueskycoffeedyt.com
SUMMARY:Social Knitting
DESCRIPTION:Looking for a cozy way to spend your Friday mornings? Join the Miami Valley Knitting Guild the 2nd and 4th Fridays of the month at Blue Sky Coffee! You don’t need to be a member\, all are welcome!  Bring your knitting projects\, sip on delicious coffee or tea\, and enjoy the company of fellow knitters in a relaxed\, creative environment. \n🧶 When: 2nd and 4th Fridays of the month\, 10:00 AM – 12:00 PM\n☕ Where: Blue Sky Coffee\, Fairborn\, OH\n🎟️ Cost: Free! No tickets or RSVP required—just stop by and join in the fun. \nWhether you’re a seasoned knitter or just starting out\, this is the perfect time to unwind\, share tips\, and connect with the knitting community. We can’t wait to see you there!
URL:https://blueskycoffeedyt.com/calendar/social-knitting-4/
LOCATION:Blue Sky Coffee\, 3070 Presidential Drive\, Fairborn\, OH\, 45324\, United States
END:VEVENT
BEGIN:VEVENT
DTSTART;TZID=America/New_York:20250523T180000
DTEND;TZID=America/New_York:20250523T200000
DTSTAMP:20260422T012537
CREATED:20250325T162542Z
LAST-MODIFIED:20250325T162542Z
UID:772-1748023200-1748030400@blueskycoffeedyt.com
SUMMARY:Wire-Wrapped Trees: A Three-Part Workshop with Jenn & Shanon Queen [PART 3]
DESCRIPTION:Discover the art of wire wrapping in this immersive three-day workshop\, where you’ll craft your own stunning wire-wrapped tree sculpture. Join us on May 9\, 16\, and 23 as local artists Jenn & Shanon Queen guides you through the process of twisting\, shaping\, and designing intricate tree forms from wire. \nWhether you’re a beginner or have experience with wire art\, this hands-on class is designed to be both engaging and relaxing. Each session will build upon the last\, allowing you to refine your skills and create a beautiful\, one-of-a-kind piece to take home. Enjoy a drink from our menu each night as you unwind and bring your tree to life. \nWhat’s Included:\n✔️ Entry to all three workshop sessions✔️ Expert instruction by Jenn & Shanon Queen✔️ All materials needed to create your wire-wrapped tree✔️ A complimentary drink each night \n📅 Dates: May 9\, 16\, & 23💰 Cost: $65 per person📍 Location: Blue Sky Coffee \n[TICKETS HERE] \nSpots are limited—reserve yours today! 🌿
URL:https://blueskycoffeedyt.com/calendar/wire-wrapped-trees-a-three-part-workshop-with-jenn-shanon-queen-part-3/
LOCATION:Blue Sky Coffee\, 3070 Presidential Drive\, Fairborn\, OH\, 45324\, United States
END:VEVENT
BEGIN:VEVENT
DTSTART;TZID=America/New_York:20250528T180000
DTEND;TZID=America/New_York:20250528T200000
DTSTAMP:20260422T012537
CREATED:20250519T122053Z
LAST-MODIFIED:20250519T122053Z
UID:829-1748455200-1748462400@blueskycoffeedyt.com
SUMMARY:Music Open Mic with featured musician: Anna Marie!
DESCRIPTION:Join us for our monthly music-open mic! \nThe first half will be an open mic\, and all musical styles are welcome. Come bring a song or two to share!  For the second half\, we’ll have a special performance by local artist\, Anna Marie! \nWhether you plan to perform\, listen\, or just come out to support local musicians\, we look forward to seeing you there! \n*FREE ENTRY \n*Doors open at 5:30
URL:https://blueskycoffeedyt.com/calendar/music-open-mic-with-featured-musician-anna-marie/
LOCATION:Blue Sky Coffee\, 3070 Presidential Drive\, Fairborn\, OH\, 45324\, United States
END:VEVENT
END:VCALENDAR