BEGIN:VCALENDAR
VERSION:2.0
PRODID:-//Blue Sky Coffee - ECPv6.15.20//NONSGML v1.0//EN
CALSCALE:GREGORIAN
METHOD:PUBLISH
X-WR-CALNAME:Blue Sky Coffee
X-ORIGINAL-URL:https://blueskycoffeedyt.com
X-WR-CALDESC:Events for Blue Sky Coffee
REFRESH-INTERVAL;VALUE=DURATION:PT1H
X-Robots-Tag:noindex
X-PUBLISHED-TTL:PT1H
BEGIN:VTIMEZONE
TZID:America/New_York
BEGIN:DAYLIGHT
TZOFFSETFROM:-0500
TZOFFSETTO:-0400
TZNAME:EDT
DTSTART:20240310T070000
END:DAYLIGHT
BEGIN:STANDARD
TZOFFSETFROM:-0400
TZOFFSETTO:-0500
TZNAME:EST
DTSTART:20241103T060000
END:STANDARD
BEGIN:DAYLIGHT
TZOFFSETFROM:-0500
TZOFFSETTO:-0400
TZNAME:EDT
DTSTART:20250309T070000
END:DAYLIGHT
BEGIN:STANDARD
TZOFFSETFROM:-0400
TZOFFSETTO:-0500
TZNAME:EST
DTSTART:20251102T060000
END:STANDARD
BEGIN:DAYLIGHT
TZOFFSETFROM:-0500
TZOFFSETTO:-0400
TZNAME:EDT
DTSTART:20260308T070000
END:DAYLIGHT
BEGIN:STANDARD
TZOFFSETFROM:-0400
TZOFFSETTO:-0500
TZNAME:EST
DTSTART:20261101T060000
END:STANDARD
END:VTIMEZONE
BEGIN:VEVENT
DTSTART;TZID=America/New_York:20250707T180000
DTEND;TZID=America/New_York:20250707T200000
DTSTAMP:20260421T220149
CREATED:20241221T232440Z
LAST-MODIFIED:20241221T232440Z
UID:533-1751911200-1751918400@blueskycoffeedyt.com
SUMMARY:Silent Book Club
DESCRIPTION:Join other local book lovers to connect over stories and ideas at our monthly Silent Book Club. Bring your current read\, a new book you’ve been dying to delve into\, or grab a book off our shelves! We meet the first Monday of every month. \nHow it works: \nIn the first half hour\, grab a drink\, a snack\, find a comfy spot to settle in\, and say hi to the other bibliophiles. We’ll then spend an hour silently reading our own books. A 5 minute warning will be given\, and we’ll shift into a discussion portion. This last half hour will be spent informally chatting about what we’ve all read and our thoughts. \nThis is a great way to connect with other readers\, get book recommendations\,  and get lost in a good story. Perfect for the avid reader\, or those looking to dip their feet back into reading! \n*FREE ENTRY
URL:https://blueskycoffeedyt.com/calendar/silent-book-club-7/
LOCATION:Blue Sky Coffee\, 3070 Presidential Drive\, Fairborn\, OH\, 45324\, United States
END:VEVENT
BEGIN:VEVENT
DTSTART;TZID=America/New_York:20250711T100000
DTEND;TZID=America/New_York:20250711T120000
DTSTAMP:20260421T220150
CREATED:20250520T174528Z
LAST-MODIFIED:20250520T174528Z
UID:831-1752228000-1752235200@blueskycoffeedyt.com
SUMMARY:Social Knitting
DESCRIPTION:Looking for a cozy way to spend your Friday mornings? Join the Miami Valley Knitting Guild the 2nd and 4th Fridays of the month at Blue Sky Coffee! You don’t need to be a member\, all are welcome!  Bring your knitting projects\, sip on delicious coffee or tea\, and enjoy the company of fellow knitters in a relaxed\, creative environment. \n🧶 When: 2nd and 4th Fridays of the month\, 10:00 AM – 12:00 PM\n☕ Where: Blue Sky Coffee\, Fairborn\, OH\n🎟️ Cost: Free! No tickets or RSVP required—just stop by and join in the fun. \nWhether you’re a seasoned knitter or just starting out\, this is the perfect time to unwind\, share tips\, and connect with the knitting community. We can’t wait to see you there!
URL:https://blueskycoffeedyt.com/calendar/social-knitting-7/
LOCATION:Blue Sky Coffee\, 3070 Presidential Drive\, Fairborn\, OH\, 45324\, United States
END:VEVENT
BEGIN:VEVENT
DTSTART;TZID=America/New_York:20250712T120000
DTEND;TZID=America/New_York:20250712T150000
DTSTAMP:20260421T220150
CREATED:20250516T160356Z
LAST-MODIFIED:20250516T160356Z
UID:823-1752321600-1752332400@blueskycoffeedyt.com
SUMMARY:Book Signing\, with Falia Koppe\, author of "Sisterhood Eternal"
DESCRIPTION:Join us for a special book signing and meet local author Falia Koppe! She’ll be signing copies of her book Sisterhood Eternal and will have books available for purchase. Come say hello and support a local writer! \n  \n\n\nFive girls. Five struggles. One unbreakable bond.\n\nJunior year at Bay Falls High brings unexpected challenges for best friends Jade\, Grace\, Maddie\, Hailey\, and new exchange student Savannah.\n\nBehind closed doors\, perfectionist Maddie struggles with heartbreak and the pressure to be flawless. Grace hides bruises and strong levels of self doubt. Hailey\, the edgy musician\, battles paralyzing stage fright and faces her mother’s former homecoming queen shadow. Savannah maintains a long-distance relationship while adjusting to life in America. And privileged Jade finds her black-and-white worldview shattered when she falls for a boy from the wrong side of town.\n\nAs they face bullying\, family trauma\, and the messy reality of growing up\, these five girls discover that true sisterhood isn’t about having perfect lives—it’s about being perfectly there for each other when life falls apart.\n\n*”Sisterhood Eternal” is a raw\, honest exploration of teenage friendship\, identity\, and resilience that will resonate with readers who loved “Sisterhood of the Traveling Pants” and “Thirteen Reasons Why.”
URL:https://blueskycoffeedyt.com/calendar/book-signing-with-falia-koppe-author-of-sisterhood-eternal/
LOCATION:Blue Sky Coffee\, 3070 Presidential Drive\, Fairborn\, OH\, 45324\, United States
END:VEVENT
BEGIN:VEVENT
DTSTART;TZID=America/New_York:20250714T180000
DTEND;TZID=America/New_York:20250714T203000
DTSTAMP:20260421T220150
CREATED:20250610T150511Z
LAST-MODIFIED:20250610T150511Z
UID:857-1752516000-1752525000@blueskycoffeedyt.com
SUMMARY:Sip and Create: Intro to Basket Weaving with the Heritage Basketry Guild
DESCRIPTION:Discover the timeless craft of basketweaving in this hands-on introductory class led by members of the Heritage Basketry Guild. Whether you’re a total beginner or just curious to try something new\, you’ll learn the basics of weaving and create your own small basket to take home. \nYour $20 ticket includes: \n\nAll materials\nExpert instruction by the Heritage Basketry Guild\nA complimentary drink from Blue Sky Coffee.\n\nSpots are limited\, so reserve yours today and come get crafty with us!
URL:https://blueskycoffeedyt.com/calendar/sip-and-create-intro-to-basket-weaving-with-the-heritage-basketry-guild/
LOCATION:Blue Sky Coffee\, 3070 Presidential Drive\, Fairborn\, OH\, 45324\, United States
END:VEVENT
BEGIN:VEVENT
DTSTART;TZID=America/New_York:20250717T180000
DTEND;TZID=America/New_York:20250717T200000
DTSTAMP:20260421T220150
CREATED:20250515T143539Z
LAST-MODIFIED:20250515T143539Z
UID:820-1752775200-1752782400@blueskycoffeedyt.com
SUMMARY:Poetry Open Mic with featured poet: Steven M. Wuebker!
DESCRIPTION:Join us for an evening of poetry! \nThe first half will be an open mic and all styles are welcome! For the second half\, Dayton poet\, Steven M. Wuebker\, will be sharing a selection of original poems! \nCheck out his books: “Pages Torn From A Plague\,” and “Relentless Liminality” \nWhether you plan to read\, listen\, or just come out to support local artists\, we look forward to seeing you there! \n*FREE ENTRY
URL:https://blueskycoffeedyt.com/calendar/poetry-open-mic-with-featured-poet-steven-m-wuebker/
LOCATION:Blue Sky Coffee\, 3070 Presidential Drive\, Fairborn\, OH\, 45324\, United States
END:VEVENT
BEGIN:VEVENT
DTSTART;TZID=America/New_York:20250720T090000
DTEND;TZID=America/New_York:20250720T110000
DTSTAMP:20260421T220150
CREATED:20250702T162208Z
LAST-MODIFIED:20250702T162445Z
UID:887-1753002000-1753009200@blueskycoffeedyt.com
SUMMARY:Sippin' Sole Mates
DESCRIPTION:Hey there! Are you new in town? Are you a local who wants to make more friends? Do you love nature walks with other people? Are you annoyed by how few coffee shops are open on Sundays? If any of these apply to you\, come join us at Blue Sky Coffee for a morning walk to get some easy exercise and community building! The first of its kind here at Blue Sky\, this event is for anyone who would love to get outside\, experience some nature\, get some steps in\, AND meet new people in a low-key\, no-pressure setting. \nHow it works: \nShow up sometime between 8:45 and 9am\, grab a drink or snack\, grab a name tag. Once folks are ready\, we’ll drive over to Wright State (you’re welcome to carpool or drive yourself)! Then we’ll walk through the Wright State University Biological Preserve trails for about an hour (or until people are ready to head back). Once we’re done\, we’ll head back to Blue Sky (feel free to get a refill)\, and then hang out for about 30 minutes to hang out before parting ways. \nExtra Info: \n\nAny fitness level is welcome!\nThis won’t be a fast-paced hike – we’re more interested in taking in nature\, connecting with the others on the hike\, and sipping our beverages.\nThe trails are mostly gravel and dirt\, so it may not be very friendly for folks in a wheelchair or for folks who are unsteady on their feet.\nIt’s okay to leave early – we’d love to have you there\, even if it’s only for part of the time! That being said\, please don’t arrive late. It will probably be hard to find us once we’ve left for WSU.\nHiking trails map: https://www.hikingproject.com/directory/8025111/wright-state-university-biological-preserve\n\n\n*FREE ENTRY
URL:https://blueskycoffeedyt.com/calendar/sippin-sole-mates/
LOCATION:Blue Sky Coffee\, 3070 Presidential Drive\, Fairborn\, OH\, 45324\, United States
END:VEVENT
BEGIN:VEVENT
DTSTART;TZID=America/New_York:20250724T180000
DTEND;TZID=America/New_York:20250724T200000
DTSTAMP:20260421T220150
CREATED:20250702T162413Z
LAST-MODIFIED:20250702T162413Z
UID:889-1753380000-1753387200@blueskycoffeedyt.com
SUMMARY:Caffeinated Community
DESCRIPTION:Hey there! Are you new in town? Are you a local who wants to make more friends? Either way\, everyone is welcome! Come join us at Blue Sky Coffee for an evening of building community and friendships! The first of its kind here at Blue Sky\, this event is for anyone who would love to meet new people and make new friends in a low-key\, no-pressure setting. \n\n \nHow it works (it’s as easy as 1\, 2\, 3): \n1) Show up! \n2) Grab a name tag and a drink (or snack)! \n3) Introduce yourself to someone new! \n\nTips for the Nervous Folks: \n\nIt’s okay to be nervous! Meeting new people and making new friends can be vulnerable and scary. Feeling nervous isn’t a problem. The people you’re talking to are probably just as nervous as you are.\nUse a conversation prompt (we’ll have some on the walls) or give someone a compliment to start a new conversation.\nIf you’re feeling overwhelmed\, grab some of our Legos or colored pencils and distract yourself with them! It can help if you’re feeling vulnerable and others might feel inspired to join you.\nIt’s okay to arrive late or leave early – we’d love to have you there\, even if it’s only for part of the time!\n\n\n\n\n*FREE ENTRY
URL:https://blueskycoffeedyt.com/calendar/caffeinated-community/
LOCATION:Blue Sky Coffee\, 3070 Presidential Drive\, Fairborn\, OH\, 45324\, United States
END:VEVENT
BEGIN:VEVENT
DTSTART;TZID=America/New_York:20250725T100000
DTEND;TZID=America/New_York:20250725T120000
DTSTAMP:20260421T220150
CREATED:20250520T174611Z
LAST-MODIFIED:20250520T174611Z
UID:833-1753437600-1753444800@blueskycoffeedyt.com
SUMMARY:Social Knitting
DESCRIPTION:Looking for a cozy way to spend your Friday mornings? Join the Miami Valley Knitting Guild the 2nd and 4th Fridays of the month at Blue Sky Coffee! You don’t need to be a member\, all are welcome!  Bring your knitting projects\, sip on delicious coffee or tea\, and enjoy the company of fellow knitters in a relaxed\, creative environment. \n🧶 When: 2nd and 4th Fridays of the month\, 10:00 AM – 12:00 PM\n☕ Where: Blue Sky Coffee\, Fairborn\, OH\n🎟️ Cost: Free! No tickets or RSVP required—just stop by and join in the fun. \nWhether you’re a seasoned knitter or just starting out\, this is the perfect time to unwind\, share tips\, and connect with the knitting community. We can’t wait to see you there!
URL:https://blueskycoffeedyt.com/calendar/social-knitting-8/
LOCATION:Blue Sky Coffee\, 3070 Presidential Drive\, Fairborn\, OH\, 45324\, United States
END:VEVENT
END:VCALENDAR