BEGIN:VCALENDAR
VERSION:2.0
PRODID:-//Blue Sky Coffee - ECPv6.15.20//NONSGML v1.0//EN
CALSCALE:GREGORIAN
METHOD:PUBLISH
X-WR-CALNAME:Blue Sky Coffee
X-ORIGINAL-URL:https://blueskycoffeedyt.com
X-WR-CALDESC:Events for Blue Sky Coffee
REFRESH-INTERVAL;VALUE=DURATION:PT1H
X-Robots-Tag:noindex
X-PUBLISHED-TTL:PT1H
BEGIN:VTIMEZONE
TZID:America/New_York
BEGIN:DAYLIGHT
TZOFFSETFROM:-0500
TZOFFSETTO:-0400
TZNAME:EDT
DTSTART:20240310T070000
END:DAYLIGHT
BEGIN:STANDARD
TZOFFSETFROM:-0400
TZOFFSETTO:-0500
TZNAME:EST
DTSTART:20241103T060000
END:STANDARD
BEGIN:DAYLIGHT
TZOFFSETFROM:-0500
TZOFFSETTO:-0400
TZNAME:EDT
DTSTART:20250309T070000
END:DAYLIGHT
BEGIN:STANDARD
TZOFFSETFROM:-0400
TZOFFSETTO:-0500
TZNAME:EST
DTSTART:20251102T060000
END:STANDARD
BEGIN:DAYLIGHT
TZOFFSETFROM:-0500
TZOFFSETTO:-0400
TZNAME:EDT
DTSTART:20260308T070000
END:DAYLIGHT
BEGIN:STANDARD
TZOFFSETFROM:-0400
TZOFFSETTO:-0500
TZNAME:EST
DTSTART:20261101T060000
END:STANDARD
END:VTIMEZONE
BEGIN:VEVENT
DTSTART;TZID=America/New_York:20250908T180000
DTEND;TZID=America/New_York:20250908T200000
DTSTAMP:20260421T184436
CREATED:20241221T232857Z
LAST-MODIFIED:20250908T144811Z
UID:537-1757354400-1757361600@blueskycoffeedyt.com
SUMMARY:Silent Book Club
DESCRIPTION:Join other local book lovers to connect over stories and ideas at our monthly Silent Book Club. Bring your current read\, a new book you’ve been dying to delve into\, or grab a book off our shelves! We meet the first Monday of every month. \nHow it works: \nIn the first half hour\, grab a drink\, a snack\, find a comfy spot to settle in\, and say hi to the other bibliophiles. We’ll then spend an hour silently reading our own books. A 5 minute warning will be given\, and we’ll shift into a discussion portion. This last half hour will be spent informally chatting about what we’ve all read and our thoughts. \nThis is a great way to connect with other readers\, get book recommendations\,  and get lost in a good story. Perfect for the avid reader\, or those looking to dip their feet back into reading! \n*FREE ENTRY
URL:https://blueskycoffeedyt.com/calendar/silent-book-club-9/
LOCATION:Blue Sky Coffee\, 3070 Presidential Drive\, Fairborn\, OH\, 45324\, United States
END:VEVENT
BEGIN:VEVENT
DTSTART;TZID=America/New_York:20250912T100000
DTEND;TZID=America/New_York:20250912T120000
DTSTAMP:20260421T184436
CREATED:20250929T150258Z
LAST-MODIFIED:20250929T150258Z
UID:967-1757671200-1757678400@blueskycoffeedyt.com
SUMMARY:Social Knitting
DESCRIPTION:Looking for a cozy way to spend your Friday mornings? Join the Miami Valley Knitting Guild the 2nd and 4th Fridays of the month at Blue Sky Coffee! You don’t need to be a member\, all are welcome!  Bring your knitting projects\, sip on delicious coffee or tea\, and enjoy the company of fellow knitters in a relaxed\, creative environment. \n When: 2nd and 4th Fridays of the month\, 10:00 AM – 12:00 PM\n Where: Blue Sky Coffee\, Fairborn\, OH\n Cost: Free! No tickets or RSVP required—just stop by and join in the fun. \nWhether you’re a seasoned knitter or just starting out\, this is the perfect time to unwind\, share tips\, and connect with the knitting community. We can’t wait to see you there!
URL:https://blueskycoffeedyt.com/calendar/social-knitting-11/
LOCATION:Blue Sky Coffee\, 3070 Presidential Drive\, Fairborn\, OH\, 45324\, United States
END:VEVENT
BEGIN:VEVENT
DTSTART;TZID=America/New_York:20250916T180000
DTEND;TZID=America/New_York:20250916T200000
DTSTAMP:20260421T184436
CREATED:20250908T150945Z
LAST-MODIFIED:20250908T150945Z
UID:923-1758045600-1758052800@blueskycoffeedyt.com
SUMMARY:Poetry Open Mic with featured poet: Tiara Green!
DESCRIPTION:Join us for an evening of poetry! \nThe first half will be an open mic and all styles are welcome! For the second half\, Dayton poet\, Tiara Green\, will be sharing a selection of original poems! \nWhether you plan to read\, listen\, or just come out to support local artists\, we look forward to seeing you there! \n*FREE ENTRY
URL:https://blueskycoffeedyt.com/calendar/poetry-open-mic-with-featured-poet-tiara-green/
LOCATION:Blue Sky Coffee\, 3070 Presidential Drive\, Fairborn\, OH\, 45324\, United States
END:VEVENT
BEGIN:VEVENT
DTSTART;TZID=America/New_York:20250926T100000
DTEND;TZID=America/New_York:20250926T120000
DTSTAMP:20260421T184436
CREATED:20250929T150333Z
LAST-MODIFIED:20250929T150333Z
UID:969-1758880800-1758888000@blueskycoffeedyt.com
SUMMARY:Social Knitting
DESCRIPTION:Looking for a cozy way to spend your Friday mornings? Join the Miami Valley Knitting Guild the 2nd and 4th Fridays of the month at Blue Sky Coffee! You don’t need to be a member\, all are welcome!  Bring your knitting projects\, sip on delicious coffee or tea\, and enjoy the company of fellow knitters in a relaxed\, creative environment. \n When: 2nd and 4th Fridays of the month\, 10:00 AM – 12:00 PM\n Where: Blue Sky Coffee\, Fairborn\, OH\n Cost: Free! No tickets or RSVP required—just stop by and join in the fun. \nWhether you’re a seasoned knitter or just starting out\, this is the perfect time to unwind\, share tips\, and connect with the knitting community. We can’t wait to see you there!
URL:https://blueskycoffeedyt.com/calendar/social-knitting-12/
LOCATION:Blue Sky Coffee\, 3070 Presidential Drive\, Fairborn\, OH\, 45324\, United States
END:VEVENT
END:VCALENDAR