BEGIN:VCALENDAR
VERSION:2.0
PRODID:-//Blue Sky Coffee - ECPv6.15.20//NONSGML v1.0//EN
CALSCALE:GREGORIAN
METHOD:PUBLISH
X-WR-CALNAME:Blue Sky Coffee
X-ORIGINAL-URL:https://blueskycoffeedyt.com
X-WR-CALDESC:Events for Blue Sky Coffee
REFRESH-INTERVAL;VALUE=DURATION:PT1H
X-Robots-Tag:noindex
X-PUBLISHED-TTL:PT1H
BEGIN:VTIMEZONE
TZID:America/New_York
BEGIN:DAYLIGHT
TZOFFSETFROM:-0500
TZOFFSETTO:-0400
TZNAME:EDT
DTSTART:20250309T070000
END:DAYLIGHT
BEGIN:STANDARD
TZOFFSETFROM:-0400
TZOFFSETTO:-0500
TZNAME:EST
DTSTART:20251102T060000
END:STANDARD
BEGIN:DAYLIGHT
TZOFFSETFROM:-0500
TZOFFSETTO:-0400
TZNAME:EDT
DTSTART:20260308T070000
END:DAYLIGHT
BEGIN:STANDARD
TZOFFSETFROM:-0400
TZOFFSETTO:-0500
TZNAME:EST
DTSTART:20261101T060000
END:STANDARD
BEGIN:DAYLIGHT
TZOFFSETFROM:-0500
TZOFFSETTO:-0400
TZNAME:EDT
DTSTART:20270314T070000
END:DAYLIGHT
BEGIN:STANDARD
TZOFFSETFROM:-0400
TZOFFSETTO:-0500
TZNAME:EST
DTSTART:20271107T060000
END:STANDARD
END:VTIMEZONE
BEGIN:VEVENT
DTSTART;TZID=America/New_York:20260105T180000
DTEND;TZID=America/New_York:20260105T200000
DTSTAMP:20260421T122618
CREATED:20251204T000744Z
LAST-MODIFIED:20251204T000744Z
UID:1024-1767636000-1767643200@blueskycoffeedyt.com
SUMMARY:Silent Book Club
DESCRIPTION:Join other local book lovers to connect over stories and ideas at our monthly Silent Book Club. Bring your current read\, a new book you’ve been dying to delve into\, or grab a book off our shelves! We meet the first Monday of every month. \nHow it works: \nIn the first half hour\, grab a drink\, a snack\, find a comfy spot to settle in\, and say hi to the other bibliophiles. We’ll then spend an hour silently reading our own books. A 5 minute warning will be given\, and we’ll shift into a discussion portion. This last half hour will be spent informally chatting about what we’ve all read and our thoughts. \nThis is a great way to connect with other readers\, get book recommendations\,  and get lost in a good story. Perfect for the avid reader\, or those looking to dip their feet back into reading! \n*FREE ENTRY
URL:https://blueskycoffeedyt.com/calendar/silent-book-club-13/
LOCATION:Blue Sky Coffee\, 3070 Presidential Drive\, Fairborn\, OH\, 45324\, United States
END:VEVENT
BEGIN:VEVENT
DTSTART;TZID=America/New_York:20260106T180000
DTEND;TZID=America/New_York:20260106T200000
DTSTAMP:20260421T122618
CREATED:20251204T002545Z
LAST-MODIFIED:20251204T002545Z
UID:1048-1767722400-1767729600@blueskycoffeedyt.com
SUMMARY:Poetry Open Mic with featured poet: Link Schreiber!
DESCRIPTION:Join us for an evening of poetry! \nThe first half will be an open mic and all styles are welcome! For the second half\, Dayton poet\, Link Schreiber\, will be sharing a selection of original poems! \nWhether you plan to read\, listen\, or just come out to support local artists\, we look forward to seeing you there! \n*FREE ENTRY
URL:https://blueskycoffeedyt.com/calendar/poetry-open-mic-with-featured-poet-link-schreiber/
LOCATION:Blue Sky Coffee\, 3070 Presidential Drive\, Fairborn\, OH\, 45324\, United States
END:VEVENT
BEGIN:VEVENT
DTSTART;TZID=America/New_York:20260109T100000
DTEND;TZID=America/New_York:20260109T120000
DTSTAMP:20260421T122618
CREATED:20260101T185922Z
LAST-MODIFIED:20260101T185922Z
UID:1089-1767952800-1767960000@blueskycoffeedyt.com
SUMMARY:Social Knitting
DESCRIPTION:Looking for a cozy way to spend your Friday mornings? Join the Miami Valley Knitting Guild the 2nd and 4th Fridays of the month at Blue Sky Coffee! You don’t need to be a member\, all are welcome!  Bring your knitting projects\, sip on delicious coffee or tea\, and enjoy the company of fellow knitters in a relaxed\, creative environment. \n When: 2nd and 4th Fridays of the month\, 10:00 AM – 12:00 PM\n Where: Blue Sky Coffee\, Fairborn\, OH\n Cost: Free! No tickets or RSVP required—just stop by and join in the fun. \nWhether you’re a seasoned knitter or just starting out\, this is the perfect time to unwind\, share tips\, and connect with the knitting community. We can’t wait to see you there!
URL:https://blueskycoffeedyt.com/calendar/social-knitting-18/
LOCATION:Blue Sky Coffee\, 3070 Presidential Drive\, Fairborn\, OH\, 45324\, United States
END:VEVENT
BEGIN:VEVENT
DTSTART;TZID=America/New_York:20260113T150000
DTEND;TZID=America/New_York:20260113T170000
DTSTAMP:20260421T122618
CREATED:20260112T194458Z
LAST-MODIFIED:20260112T194458Z
UID:1176-1768316400-1768323600@blueskycoffeedyt.com
SUMMARY:Well & Weave
DESCRIPTION:Write separately together! \nJoin Ink & Loom‘s “Well & Weave” series\, a write-in\, open free to the community. Whether it’s a poem\, a novel\, or a term paper\, come write alongside other writers and enjoy some coffee and a treat. \nLike a challenge? Join in on writing sprints where we set a short timer and see how many words we can get out in that time. \nIf you’re feeling particularly competitive\, you can opt-in for the leaderboard!
URL:https://blueskycoffeedyt.com/calendar/well-weave-3/
LOCATION:Blue Sky Coffee\, 3070 Presidential Drive\, Fairborn\, OH\, 45324\, United States
END:VEVENT
BEGIN:VEVENT
DTSTART;TZID=America/New_York:20260114T180000
DTEND;TZID=America/New_York:20260114T200000
DTSTAMP:20260421T122618
CREATED:20251222T161616Z
LAST-MODIFIED:20260114T175224Z
UID:1071-1768413600-1768420800@blueskycoffeedyt.com
SUMMARY:Paint & Sip with Bonnie Kuntz!
DESCRIPTION:⛄️  Paint & Sip with Bonnie Kuntz – Winter Landscape Edition! ⛄️ \nJoin us for a cozy evening of creativity as local artist Bonnie Kuntz guides you through painting a beautiful snowy landscape using a wax resist technique. This fun\, hands-on process creates magical winter textures and is perfect for beginners and experienced painters alike. Come unwind\, sip something warm\, and lean into the winter vibes ❄️ \nYour ticket includes:✔ All materials✔ Step-by-step instruction by Bonnie Kuntz✔ One complimentary drink from Blue Sky Coffee \nSpots are limited—come create with us! 🎨☕
URL:https://blueskycoffeedyt.com/calendar/paint-sip-with-bonnie-kuntz-2/
LOCATION:Blue Sky Coffee\, 3070 Presidential Drive\, Fairborn\, OH\, 45324\, United States
END:VEVENT
BEGIN:VEVENT
DTSTART;TZID=America/New_York:20260120T180000
DTEND;TZID=America/New_York:20260120T200000
DTSTAMP:20260421T122618
CREATED:20251204T003931Z
LAST-MODIFIED:20251204T003931Z
UID:1051-1768932000-1768939200@blueskycoffeedyt.com
SUMMARY:Music Open Mic with featured musician: Lex G!
DESCRIPTION:Join us for an evening of music! \nThe first half will be an open mic\, and all musical styles are welcome. Originals encouraged. Come bring a song or two to share! For the second half\, we’ll have a special performance by local artist Lex G! \nWhether you plan to perform\, listen\, or just come out to support local musicians\, we look forward to seeing you there! \n*FREE ENTRY
URL:https://blueskycoffeedyt.com/calendar/music-open-mic-with-featured-musician-lex-g/
LOCATION:Blue Sky Coffee\, 3070 Presidential Drive\, Fairborn\, OH\, 45324\, United States
END:VEVENT
BEGIN:VEVENT
DTSTART;TZID=America/New_York:20260123T070000
DTEND;TZID=America/New_York:20260123T110000
DTSTAMP:20260421T122618
CREATED:20260112T194731Z
LAST-MODIFIED:20260112T194731Z
UID:1180-1769151600-1769166000@blueskycoffeedyt.com
SUMMARY:(Quiet) Well & Weave
DESCRIPTION:Write separately together! \nJoin Ink & Loom‘s “Well & Weave” series\, a write-in\, open free to the community. Whether it’s a poem\, a novel\, or a term paper\, come write alongside other writers and enjoy some coffee and a treat. \nLike a challenge? Join in on writing sprints where we set a short timer and see how many words we can get out in that time. For this quiet session\, no beeping alarms or loud writing instruments. \nIf you’re feeling particularly competitive\, you can opt-in for the leaderboard!
URL:https://blueskycoffeedyt.com/calendar/quiet-well-weave-4/
LOCATION:Blue Sky Coffee\, 3070 Presidential Drive\, Fairborn\, OH\, 45324\, United States
END:VEVENT
BEGIN:VEVENT
DTSTART;TZID=America/New_York:20260123T100000
DTEND;TZID=America/New_York:20260123T120000
DTSTAMP:20260421T122618
CREATED:20260101T185956Z
LAST-MODIFIED:20260101T185956Z
UID:1091-1769162400-1769169600@blueskycoffeedyt.com
SUMMARY:Social Knitting
DESCRIPTION:Looking for a cozy way to spend your Friday mornings? Join the Miami Valley Knitting Guild the 2nd and 4th Fridays of the month at Blue Sky Coffee! You don’t need to be a member\, all are welcome!  Bring your knitting projects\, sip on delicious coffee or tea\, and enjoy the company of fellow knitters in a relaxed\, creative environment. \n When: 2nd and 4th Fridays of the month\, 10:00 AM – 12:00 PM\n Where: Blue Sky Coffee\, Fairborn\, OH\n Cost: Free! No tickets or RSVP required—just stop by and join in the fun. \nWhether you’re a seasoned knitter or just starting out\, this is the perfect time to unwind\, share tips\, and connect with the knitting community. We can’t wait to see you there!
URL:https://blueskycoffeedyt.com/calendar/social-knitting-19/
LOCATION:Blue Sky Coffee\, 3070 Presidential Drive\, Fairborn\, OH\, 45324\, United States
END:VEVENT
BEGIN:VEVENT
DTSTART;TZID=America/New_York:20260124T123000
DTEND;TZID=America/New_York:20260124T143000
DTSTAMP:20260421T122618
CREATED:20260119T155514Z
LAST-MODIFIED:20260119T155514Z
UID:1218-1769257800-1769265000@blueskycoffeedyt.com
SUMMARY:Community Crocheting
DESCRIPTION:Looking for a cozy way to spend your afternoon? Join the Greater Dayton Crochet Guild for community crocheting on the fourth Saturday of every month! You don’t need to be a member—everyone is welcome! Bring your crochet projects\, sip on a warm drink\, and enjoy good conversation with fellow crocheters in a relaxed\, creative setting. \nWhether you’re an experienced crocheter or just picking up a hook for the first time\, it’s the perfect opportunity to unwind\, share tips\, and connect with Dayton’s crochet community. We can’t wait to see you there! \n*FREE ENTRY
URL:https://blueskycoffeedyt.com/calendar/community-crocheting-2/
LOCATION:Blue Sky Coffee\, 3070 Presidential Drive\, Fairborn\, OH\, 45324\, United States
END:VEVENT
BEGIN:VEVENT
DTSTART;TZID=America/New_York:20260127T150000
DTEND;TZID=America/New_York:20260127T170000
DTSTAMP:20260421T122618
CREATED:20260112T194553Z
LAST-MODIFIED:20260112T194553Z
UID:1178-1769526000-1769533200@blueskycoffeedyt.com
SUMMARY:Well & Weave
DESCRIPTION:Write separately together! \nJoin Ink & Loom‘s “Well & Weave” series\, a write-in\, open free to the community. Whether it’s a poem\, a novel\, or a term paper\, come write alongside other writers and enjoy some coffee and a treat. \nLike a challenge? Join in on writing sprints where we set a short timer and see how many words we can get out in that time. \nIf you’re feeling particularly competitive\, you can opt-in for the leaderboard!
URL:https://blueskycoffeedyt.com/calendar/well-weave-4/
LOCATION:Blue Sky Coffee\, 3070 Presidential Drive\, Fairborn\, OH\, 45324\, United States
END:VEVENT
END:VCALENDAR